BEGIN:VCALENDAR
VERSION:2.0
PRODID:-//Pennsylvania Dental Association - ECPv6.15.20//NONSGML v1.0//EN
CALSCALE:GREGORIAN
METHOD:PUBLISH
X-ORIGINAL-URL:https://www.padental.org
X-WR-CALDESC:Events for Pennsylvania Dental Association
REFRESH-INTERVAL;VALUE=DURATION:PT1H
X-Robots-Tag:noindex
X-PUBLISHED-TTL:PT1H
BEGIN:VTIMEZONE
TZID:America/New_York
BEGIN:DAYLIGHT
TZOFFSETFROM:-0500
TZOFFSETTO:-0400
TZNAME:EDT
DTSTART:20250309T070000
END:DAYLIGHT
BEGIN:STANDARD
TZOFFSETFROM:-0400
TZOFFSETTO:-0500
TZNAME:EST
DTSTART:20251102T060000
END:STANDARD
BEGIN:DAYLIGHT
TZOFFSETFROM:-0500
TZOFFSETTO:-0400
TZNAME:EDT
DTSTART:20260308T070000
END:DAYLIGHT
BEGIN:STANDARD
TZOFFSETFROM:-0400
TZOFFSETTO:-0500
TZNAME:EST
DTSTART:20261101T060000
END:STANDARD
BEGIN:DAYLIGHT
TZOFFSETFROM:-0500
TZOFFSETTO:-0400
TZNAME:EDT
DTSTART:20270314T070000
END:DAYLIGHT
BEGIN:STANDARD
TZOFFSETFROM:-0400
TZOFFSETTO:-0500
TZNAME:EST
DTSTART:20271107T060000
END:STANDARD
BEGIN:DAYLIGHT
TZOFFSETFROM:-0500
TZOFFSETTO:-0400
TZNAME:EDT
DTSTART:20280312T070000
END:DAYLIGHT
BEGIN:STANDARD
TZOFFSETFROM:-0400
TZOFFSETTO:-0500
TZNAME:EST
DTSTART:20281105T060000
END:STANDARD
END:VTIMEZONE
BEGIN:VEVENT
DTSTART;VALUE=DATE:20260501
DTEND;VALUE=DATE:20260502
DTSTAMP:20260420T025700
CREATED:20251029T113915Z
LAST-MODIFIED:20251211T223739Z
UID:10000696-1777593600-1777679999@www.padental.org
SUMMARY:Vesak
DESCRIPTION:Learn More
URL:https://www.padental.org/event/vesak/2026-05-01/
CATEGORIES:Federal and Faith-Based Celebrations
END:VEVENT
BEGIN:VEVENT
DTSTART;VALUE=DATE:20260514
DTEND;VALUE=DATE:20260515
DTSTAMP:20260420T025700
CREATED:20251029T121925Z
LAST-MODIFIED:20251029T223551Z
UID:10000732-1778716800-1778803199@www.padental.org
SUMMARY:Ascension Day
DESCRIPTION:Learn More
URL:https://www.padental.org/event/ascension-day/2026-05-14/
CATEGORIES:Federal and Faith-Based Celebrations
END:VEVENT
BEGIN:VEVENT
DTSTART;VALUE=DATE:20260619
DTEND;VALUE=DATE:20260620
DTSTAMP:20260420T025700
CREATED:20251029T130539Z
LAST-MODIFIED:20251029T225955Z
UID:10000764-1781827200-1781913599@www.padental.org
SUMMARY:Juneteenth
DESCRIPTION:Learn More
URL:https://www.padental.org/event/juneteenth/2026-06-19/1/
CATEGORIES:Federal and Faith-Based Celebrations
END:VEVENT
BEGIN:VEVENT
DTSTART;VALUE=DATE:20260619
DTEND;VALUE=DATE:20260620
DTSTAMP:20260420T025700
CREATED:20251029T130539Z
LAST-MODIFIED:20251029T225955Z
UID:10000765-1781856000-1781888400@www.padental.org
SUMMARY:Juneteenth
DESCRIPTION:Learn More
URL:https://www.padental.org/event/juneteenth/2026-06-19/2/
CATEGORIES:Federal and Faith-Based Celebrations
END:VEVENT
BEGIN:VEVENT
DTSTART;VALUE=DATE:20260704
DTEND;VALUE=DATE:20260705
DTSTAMP:20260420T025700
CREATED:20251211T220742Z
LAST-MODIFIED:20251211T220743Z
UID:10000798-1783123200-1783209599@www.padental.org
SUMMARY:Fourth of July
DESCRIPTION:  \nLearn More
URL:https://www.padental.org/event/fourth-of-july-2/
CATEGORIES:Federal and Faith-Based Celebrations
END:VEVENT
BEGIN:VEVENT
DTSTART;TZID=America/New_York:20260815T080000
DTEND;TZID=America/New_York:20260815T170000
DTSTAMP:20260420T025700
CREATED:20251029T174929Z
LAST-MODIFIED:20251029T231531Z
UID:10000855-1786780800-1786813200@www.padental.org
SUMMARY:Feast of the Assumption
DESCRIPTION:Learn More
URL:https://www.padental.org/event/feast-of-the-assumption/2026-08-15/
CATEGORIES:Federal and Faith-Based Celebrations
END:VEVENT
BEGIN:VEVENT
DTSTART;VALUE=DATE:20260911
DTEND;VALUE=DATE:20260912
DTSTAMP:20260420T025700
CREATED:20251029T182150Z
LAST-MODIFIED:20251029T232425Z
UID:10000901-1789084800-1789171199@www.padental.org
SUMMARY:Patriot Day
DESCRIPTION:Learn More
URL:https://www.padental.org/event/patriot-day/2026-09-11/
CATEGORIES:Federal and Faith-Based Celebrations
END:VEVENT
BEGIN:VEVENT
DTSTART;VALUE=DATE:20260911
DTEND;VALUE=DATE:20260912
DTSTAMP:20260420T025700
CREATED:20251029T183405Z
LAST-MODIFIED:20251029T232506Z
UID:10000926-1789084800-1789171199@www.padental.org
SUMMARY:Rosh Hashanah
DESCRIPTION:Learn More
URL:https://www.padental.org/event/rosh-hashanah/2026-09-11/
CATEGORIES:Federal and Faith-Based Celebrations
END:VEVENT
BEGIN:VEVENT
DTSTART;VALUE=DATE:20260921
DTEND;VALUE=DATE:20260922
DTSTAMP:20260420T025700
CREATED:20250929T193929Z
LAST-MODIFIED:20251211T194120Z
UID:10001128-1789977600-1790010000@www.padental.org
SUMMARY:Yom Kippur
DESCRIPTION:Learn More
URL:https://www.padental.org/event/yom-kippur/2026-09-21/
CATEGORIES:Federal and Faith-Based Celebrations
END:VEVENT
BEGIN:VEVENT
DTSTART;VALUE=DATE:20260925
DTEND;VALUE=DATE:20260926
DTSTAMP:20260420T025700
CREATED:20250930T174448Z
LAST-MODIFIED:20251029T193800Z
UID:10000116-1790323200-1790355600@www.padental.org
SUMMARY:Sukkot
DESCRIPTION:Learn More
URL:https://www.padental.org/event/sukkot/2026-09-25/
CATEGORIES:Federal and Faith-Based Celebrations
END:VEVENT
BEGIN:VEVENT
DTSTART;VALUE=DATE:20261012
DTEND;VALUE=DATE:20261013
DTSTAMP:20260420T025700
CREATED:20260106T205632Z
LAST-MODIFIED:20260106T205632Z
UID:10001536-1791763200-1791849599@www.padental.org
SUMMARY:Columbus Day
DESCRIPTION:Learn more
URL:https://www.padental.org/event/columbus-day/2026-10-12/
CATEGORIES:Federal and Faith-Based Celebrations
END:VEVENT
BEGIN:VEVENT
DTSTART;VALUE=DATE:20261101
DTEND;VALUE=DATE:20261102
DTSTAMP:20260420T025700
CREATED:20250930T191203Z
LAST-MODIFIED:20251029T195101Z
UID:10000243-1793491200-1793573999@www.padental.org
SUMMARY:All Saint's Day
DESCRIPTION:Learn More
URL:https://www.padental.org/event/all-saints-day/2026-11-01/
CATEGORIES:Federal and Faith-Based Celebrations
END:VEVENT
BEGIN:VEVENT
DTSTART;VALUE=DATE:20261108
DTEND;VALUE=DATE:20261109
DTSTAMP:20260420T025700
CREATED:20250930T184217Z
LAST-MODIFIED:20251029T194502Z
UID:10000191-1794124800-1794157200@www.padental.org
SUMMARY:Diwali
DESCRIPTION:Learn More
URL:https://www.padental.org/event/diwali/2026-11-08/
CATEGORIES:Federal and Faith-Based Celebrations
END:VEVENT
BEGIN:VEVENT
DTSTART;VALUE=DATE:20261111
DTEND;VALUE=DATE:20261112
DTSTAMP:20260420T025700
CREATED:20250930T202021Z
LAST-MODIFIED:20251211T215914Z
UID:10000267-1794355200-1794441599@www.padental.org
SUMMARY:Veteran's Day
DESCRIPTION:Learn More
URL:https://www.padental.org/event/veterans-day/2026-11-11/
CATEGORIES:Federal and Faith-Based Celebrations
END:VEVENT
BEGIN:VEVENT
DTSTART;VALUE=DATE:20261130
DTEND;VALUE=DATE:20261201
DTSTAMP:20260420T025700
CREATED:20250930T204930Z
LAST-MODIFIED:20251029T201611Z
UID:10000314-1795996800-1796083199@www.padental.org
SUMMARY:Advent
DESCRIPTION:Learn More
URL:https://www.padental.org/event/advent/2026-11-30/
CATEGORIES:Federal and Faith-Based Celebrations
END:VEVENT
BEGIN:VEVENT
DTSTART;VALUE=DATE:20261208
DTEND;VALUE=DATE:20261209
DTSTAMP:20260420T025700
CREATED:20250930T205652Z
LAST-MODIFIED:20251211T224714Z
UID:10000326-1796688000-1796774399@www.padental.org
SUMMARY:Bodhi Day
DESCRIPTION:Learn More
URL:https://www.padental.org/event/bodhi-day/2026-12-08/
CATEGORIES:Federal and Faith-Based Celebrations
END:VEVENT
BEGIN:VEVENT
DTSTART;VALUE=DATE:20261214
DTEND;VALUE=DATE:20261215
DTSTAMP:20260420T025700
CREATED:20250930T210115Z
LAST-MODIFIED:20251029T202152Z
UID:10000338-1797235200-1797267600@www.padental.org
SUMMARY:Hanukkah
DESCRIPTION:Learn More
URL:https://www.padental.org/event/hanukkah/2026-12-14/
CATEGORIES:Federal and Faith-Based Celebrations
END:VEVENT
BEGIN:VEVENT
DTSTART;VALUE=DATE:20261226
DTEND;VALUE=DATE:20261227
DTSTAMP:20260420T025700
CREATED:20250930T213418Z
LAST-MODIFIED:20251029T202624Z
UID:10000371-1798243200-1798329599@www.padental.org
SUMMARY:Kwanzaa
DESCRIPTION:Learn More
URL:https://www.padental.org/event/kwanzaa/2026-12-26/
CATEGORIES:Federal and Faith-Based Celebrations
END:VEVENT
BEGIN:VEVENT
DTSTART;VALUE=DATE:20270107
DTEND;VALUE=DATE:20270108
DTSTAMP:20260420T025700
CREATED:20251001T185405Z
LAST-MODIFIED:20251029T202842Z
UID:10000392-1799280000-1799366399@www.padental.org
SUMMARY:Russian Orthodox Christmas
DESCRIPTION:Learn More
URL:https://www.padental.org/event/russian-orthodox-christmas/2027-01-07/
CATEGORIES:Federal and Faith-Based Celebrations
END:VEVENT
BEGIN:VEVENT
DTSTART;VALUE=DATE:20270210
DTEND;VALUE=DATE:20270211
DTSTAMP:20260420T025700
CREATED:20251028T180724Z
LAST-MODIFIED:20251029T204530Z
UID:10000505-1802246400-1802278800@www.padental.org
SUMMARY:Ash Wednesday
DESCRIPTION:Learn More
URL:https://www.padental.org/event/ash-wednesday/2027-02-10/
CATEGORIES:Federal and Faith-Based Celebrations
END:VEVENT
BEGIN:VEVENT
DTSTART;VALUE=DATE:20270309
DTEND;VALUE=DATE:20270310
DTSTAMP:20260420T025700
CREATED:20251028T191651Z
LAST-MODIFIED:20251029T210116Z
UID:10000603-1804579200-1804611600@www.padental.org
SUMMARY:Eid al-Fitr
DESCRIPTION:  \nLearn More
URL:https://www.padental.org/event/eid-al-fitr/2027-03-09/
CATEGORIES:Federal and Faith-Based Celebrations
END:VEVENT
BEGIN:VEVENT
DTSTART;VALUE=DATE:20270322
DTEND;VALUE=DATE:20270323
DTSTAMP:20260420T025700
CREATED:20251028T183248Z
LAST-MODIFIED:20251029T205310Z
UID:10000548-1805702400-1805734800@www.padental.org
SUMMARY:Holi
DESCRIPTION:Learn More \n  \n  \n  \n 
URL:https://www.padental.org/event/holi/2027-03-22/
CATEGORIES:Federal and Faith-Based Celebrations
END:VEVENT
BEGIN:VEVENT
DTSTART;VALUE=DATE:20270326
DTEND;VALUE=DATE:20270327
DTSTAMP:20260420T025700
CREATED:20251028T194903Z
LAST-MODIFIED:20251029T221736Z
UID:10000649-1806048000-1806080400@www.padental.org
SUMMARY:Good Friday
DESCRIPTION:Learn More
URL:https://www.padental.org/event/good-friday/2027-03-26/
CATEGORIES:Federal and Faith-Based Celebrations
END:VEVENT
BEGIN:VEVENT
DTSTART;VALUE=DATE:20270328
DTEND;VALUE=DATE:20270329
DTSTAMP:20260420T025700
CREATED:20251028T195614Z
LAST-MODIFIED:20251029T221909Z
UID:10000652-1806220800-1806253200@www.padental.org
SUMMARY:Easter
DESCRIPTION:Learn More
URL:https://www.padental.org/event/easter/2027-03-28/
CATEGORIES:Federal and Faith-Based Celebrations
END:VEVENT
BEGIN:VEVENT
DTSTART;VALUE=DATE:20270421
DTEND;VALUE=DATE:20270422
DTSTAMP:20260420T025700
CREATED:20251028T193318Z
LAST-MODIFIED:20251029T221355Z
UID:10000634-1808294400-1808326800@www.padental.org
SUMMARY:Passover
DESCRIPTION:Learn More
URL:https://www.padental.org/event/passover/2027-04-21/
CATEGORIES:Federal and Faith-Based Celebrations
END:VEVENT
BEGIN:VEVENT
DTSTART;VALUE=DATE:20270506
DTEND;VALUE=DATE:20270507
DTSTAMP:20260420T025700
CREATED:20251029T121925Z
LAST-MODIFIED:20251029T223551Z
UID:10000733-1809590400-1809622800@www.padental.org
SUMMARY:Ascension Day
DESCRIPTION:Learn More
URL:https://www.padental.org/event/ascension-day/2027-05-06/
CATEGORIES:Federal and Faith-Based Celebrations
END:VEVENT
BEGIN:VEVENT
DTSTART;VALUE=DATE:20270520
DTEND;VALUE=DATE:20270521
DTSTAMP:20260420T025700
CREATED:20251029T113915Z
LAST-MODIFIED:20251211T223739Z
UID:10000697-1810800000-1810832400@www.padental.org
SUMMARY:Vesak
DESCRIPTION:Learn More
URL:https://www.padental.org/event/vesak/2027-05-20/
CATEGORIES:Federal and Faith-Based Celebrations
END:VEVENT
BEGIN:VEVENT
DTSTART;VALUE=DATE:20270619
DTEND;VALUE=DATE:20270620
DTSTAMP:20260420T025700
CREATED:20251029T130539Z
LAST-MODIFIED:20251029T225955Z
UID:10000766-1813363200-1813449599@www.padental.org
SUMMARY:Juneteenth
DESCRIPTION:Learn More
URL:https://www.padental.org/event/juneteenth/2027-06-19/
CATEGORIES:Federal and Faith-Based Celebrations
END:VEVENT
BEGIN:VEVENT
DTSTART;TZID=America/New_York:20270815T080000
DTEND;TZID=America/New_York:20270815T170000
DTSTAMP:20260420T025700
CREATED:20251029T174929Z
LAST-MODIFIED:20251029T231531Z
UID:10000856-1818316800-1818349200@www.padental.org
SUMMARY:Feast of the Assumption
DESCRIPTION:Learn More
URL:https://www.padental.org/event/feast-of-the-assumption/2027-08-15/
CATEGORIES:Federal and Faith-Based Celebrations
END:VEVENT
BEGIN:VEVENT
DTSTART;VALUE=DATE:20270911
DTEND;VALUE=DATE:20270912
DTSTAMP:20260420T025700
CREATED:20251029T182150Z
LAST-MODIFIED:20251029T232425Z
UID:10000902-1820620800-1820707199@www.padental.org
SUMMARY:Patriot Day
DESCRIPTION:Learn More
URL:https://www.padental.org/event/patriot-day/2027-09-11/
CATEGORIES:Federal and Faith-Based Celebrations
END:VEVENT
END:VCALENDAR