BEGIN:VCALENDAR
VERSION:2.0
PRODID:-//Pennsylvania Dental Association - ECPv6.15.20//NONSGML v1.0//EN
CALSCALE:GREGORIAN
METHOD:PUBLISH
X-ORIGINAL-URL:https://www.padental.org
X-WR-CALDESC:Events for Pennsylvania Dental Association
REFRESH-INTERVAL;VALUE=DURATION:PT1H
X-Robots-Tag:noindex
X-PUBLISHED-TTL:PT1H
BEGIN:VTIMEZONE
TZID:America/New_York
BEGIN:DAYLIGHT
TZOFFSETFROM:-0500
TZOFFSETTO:-0400
TZNAME:EDT
DTSTART:20280312T070000
END:DAYLIGHT
BEGIN:STANDARD
TZOFFSETFROM:-0400
TZOFFSETTO:-0500
TZNAME:EST
DTSTART:20281105T060000
END:STANDARD
BEGIN:DAYLIGHT
TZOFFSETFROM:-0500
TZOFFSETTO:-0400
TZNAME:EDT
DTSTART:20290311T070000
END:DAYLIGHT
BEGIN:STANDARD
TZOFFSETFROM:-0400
TZOFFSETTO:-0500
TZNAME:EST
DTSTART:20291104T060000
END:STANDARD
BEGIN:DAYLIGHT
TZOFFSETFROM:-0500
TZOFFSETTO:-0400
TZNAME:EDT
DTSTART:20300310T070000
END:DAYLIGHT
BEGIN:STANDARD
TZOFFSETFROM:-0400
TZOFFSETTO:-0500
TZNAME:EST
DTSTART:20301103T060000
END:STANDARD
BEGIN:DAYLIGHT
TZOFFSETFROM:-0500
TZOFFSETTO:-0400
TZNAME:EDT
DTSTART:20310309T070000
END:DAYLIGHT
BEGIN:STANDARD
TZOFFSETFROM:-0400
TZOFFSETTO:-0500
TZNAME:EST
DTSTART:20311102T060000
END:STANDARD
BEGIN:DAYLIGHT
TZOFFSETFROM:-0500
TZOFFSETTO:-0400
TZNAME:EDT
DTSTART:20320314T070000
END:DAYLIGHT
BEGIN:STANDARD
TZOFFSETFROM:-0400
TZOFFSETTO:-0500
TZNAME:EST
DTSTART:20321107T060000
END:STANDARD
BEGIN:DAYLIGHT
TZOFFSETFROM:-0500
TZOFFSETTO:-0400
TZNAME:EDT
DTSTART:20330313T070000
END:DAYLIGHT
BEGIN:STANDARD
TZOFFSETFROM:-0400
TZOFFSETTO:-0500
TZNAME:EST
DTSTART:20331106T060000
END:STANDARD
END:VTIMEZONE
BEGIN:VEVENT
DTSTART;VALUE=DATE:20290107
DTEND;VALUE=DATE:20290108
DTSTAMP:20260422T183248
CREATED:20251001T185405Z
LAST-MODIFIED:20251029T202842Z
UID:10000394-1862438400-1862524799@www.padental.org
SUMMARY:Russian Orthodox Christmas
DESCRIPTION:Learn More
URL:https://www.padental.org/event/russian-orthodox-christmas/2029-01-07/
CATEGORIES:Federal and Faith-Based Celebrations
END:VEVENT
BEGIN:VEVENT
DTSTART;VALUE=DATE:20290619
DTEND;VALUE=DATE:20290620
DTSTAMP:20260422T183248
CREATED:20251029T130539Z
LAST-MODIFIED:20251029T225955Z
UID:10000768-1876521600-1876607999@www.padental.org
SUMMARY:Juneteenth
DESCRIPTION:Learn More
URL:https://www.padental.org/event/juneteenth/2029-06-19/
CATEGORIES:Federal and Faith-Based Celebrations
END:VEVENT
BEGIN:VEVENT
DTSTART;TZID=America/New_York:20290815T080000
DTEND;TZID=America/New_York:20290815T170000
DTSTAMP:20260422T183248
CREATED:20251029T174929Z
LAST-MODIFIED:20251029T231531Z
UID:10000858-1881475200-1881507600@www.padental.org
SUMMARY:Feast of the Assumption
DESCRIPTION:Learn More
URL:https://www.padental.org/event/feast-of-the-assumption/2029-08-15/
CATEGORIES:Federal and Faith-Based Celebrations
END:VEVENT
BEGIN:VEVENT
DTSTART;VALUE=DATE:20290911
DTEND;VALUE=DATE:20290912
DTSTAMP:20260422T183248
CREATED:20251029T182150Z
LAST-MODIFIED:20251029T232425Z
UID:10000904-1883779200-1883865599@www.padental.org
SUMMARY:Patriot Day
DESCRIPTION:Learn More
URL:https://www.padental.org/event/patriot-day/2029-09-11/
CATEGORIES:Federal and Faith-Based Celebrations
END:VEVENT
BEGIN:VEVENT
DTSTART;VALUE=DATE:20290918
DTEND;VALUE=DATE:20290919
DTSTAMP:20260422T183248
CREATED:20250929T193929Z
LAST-MODIFIED:20251211T194120Z
UID:10000097-1884412800-1884445200@www.padental.org
SUMMARY:Yom Kippur
DESCRIPTION:Learn More
URL:https://www.padental.org/event/yom-kippur/2029-09-18/
CATEGORIES:Federal and Faith-Based Celebrations
END:VEVENT
BEGIN:VEVENT
DTSTART;VALUE=DATE:20290923
DTEND;VALUE=DATE:20290924
DTSTAMP:20260422T183248
CREATED:20250930T174448Z
LAST-MODIFIED:20251029T193800Z
UID:10000119-1884844800-1884877200@www.padental.org
SUMMARY:Sukkot
DESCRIPTION:Learn More
URL:https://www.padental.org/event/sukkot/2029-09-23/
CATEGORIES:Federal and Faith-Based Celebrations
END:VEVENT
BEGIN:VEVENT
DTSTART;VALUE=DATE:20291008
DTEND;VALUE=DATE:20291009
DTSTAMP:20260422T183248
CREATED:20260106T205632Z
LAST-MODIFIED:20260106T205632Z
UID:10001539-1886112000-1886198399@www.padental.org
SUMMARY:Columbus Day
DESCRIPTION:Learn more
URL:https://www.padental.org/event/columbus-day/2029-10-08/1/
CATEGORIES:Federal and Faith-Based Celebrations
END:VEVENT
BEGIN:VEVENT
DTSTART;VALUE=DATE:20291008
DTEND;VALUE=DATE:20291009
DTSTAMP:20260422T183248
CREATED:20260106T205632Z
LAST-MODIFIED:20260106T205632Z
UID:10001543-1886140800-1886173200@www.padental.org
SUMMARY:Columbus Day
DESCRIPTION:Learn more
URL:https://www.padental.org/event/columbus-day/2029-10-08/2/
CATEGORIES:Federal and Faith-Based Celebrations
END:VEVENT
BEGIN:VEVENT
DTSTART;VALUE=DATE:20291101
DTEND;VALUE=DATE:20291102
DTSTAMP:20260422T183248
CREATED:20250930T191203Z
LAST-MODIFIED:20251029T195101Z
UID:10000246-1888185600-1888271999@www.padental.org
SUMMARY:All Saint's Day
DESCRIPTION:Learn More
URL:https://www.padental.org/event/all-saints-day/2029-11-01/
CATEGORIES:Federal and Faith-Based Celebrations
END:VEVENT
BEGIN:VEVENT
DTSTART;VALUE=DATE:20291105
DTEND;VALUE=DATE:20291106
DTSTAMP:20260422T183248
CREATED:20250930T184217Z
LAST-MODIFIED:20251029T194502Z
UID:10000194-1888560000-1888592400@www.padental.org
SUMMARY:Diwali
DESCRIPTION:Learn More
URL:https://www.padental.org/event/diwali/2029-11-05/
CATEGORIES:Federal and Faith-Based Celebrations
END:VEVENT
BEGIN:VEVENT
DTSTART;VALUE=DATE:20291111
DTEND;VALUE=DATE:20291112
DTSTAMP:20260422T183248
CREATED:20250930T202021Z
LAST-MODIFIED:20251211T215914Z
UID:10000270-1889049600-1889135999@www.padental.org
SUMMARY:Veteran's Day
DESCRIPTION:Learn More
URL:https://www.padental.org/event/veterans-day/2029-11-11/
CATEGORIES:Federal and Faith-Based Celebrations
END:VEVENT
BEGIN:VEVENT
DTSTART;VALUE=DATE:20291130
DTEND;VALUE=DATE:20291201
DTSTAMP:20260422T183248
CREATED:20250930T204930Z
LAST-MODIFIED:20251029T201611Z
UID:10000317-1890691200-1890777599@www.padental.org
SUMMARY:Advent
DESCRIPTION:Learn More
URL:https://www.padental.org/event/advent/2029-11-30/
CATEGORIES:Federal and Faith-Based Celebrations
END:VEVENT
BEGIN:VEVENT
DTSTART;VALUE=DATE:20291208
DTEND;VALUE=DATE:20291209
DTSTAMP:20260422T183248
CREATED:20250930T205652Z
LAST-MODIFIED:20251211T224714Z
UID:10000329-1891382400-1891468799@www.padental.org
SUMMARY:Bodhi Day
DESCRIPTION:Learn More
URL:https://www.padental.org/event/bodhi-day/2029-12-08/
CATEGORIES:Federal and Faith-Based Celebrations
END:VEVENT
BEGIN:VEVENT
DTSTART;VALUE=DATE:20291212
DTEND;VALUE=DATE:20291213
DTSTAMP:20260422T183248
CREATED:20250930T210115Z
LAST-MODIFIED:20251029T202152Z
UID:10000341-1891756800-1891789200@www.padental.org
SUMMARY:Hanukkah
DESCRIPTION:Learn More
URL:https://www.padental.org/event/hanukkah/2029-12-12/
CATEGORIES:Federal and Faith-Based Celebrations
END:VEVENT
BEGIN:VEVENT
DTSTART;VALUE=DATE:20291226
DTEND;VALUE=DATE:20291227
DTSTAMP:20260422T183248
CREATED:20250930T213418Z
LAST-MODIFIED:20251029T202624Z
UID:10000374-1892937600-1893023999@www.padental.org
SUMMARY:Kwanzaa
DESCRIPTION:Learn More
URL:https://www.padental.org/event/kwanzaa/2029-12-26/
CATEGORIES:Federal and Faith-Based Celebrations
END:VEVENT
BEGIN:VEVENT
DTSTART;VALUE=DATE:20300107
DTEND;VALUE=DATE:20300108
DTSTAMP:20260422T183248
CREATED:20251001T185405Z
LAST-MODIFIED:20251029T202842Z
UID:10000395-1893974400-1894060799@www.padental.org
SUMMARY:Russian Orthodox Christmas
DESCRIPTION:Learn More
URL:https://www.padental.org/event/russian-orthodox-christmas/2030-01-07/
CATEGORIES:Federal and Faith-Based Celebrations
END:VEVENT
BEGIN:VEVENT
DTSTART;VALUE=DATE:20300619
DTEND;VALUE=DATE:20300620
DTSTAMP:20260422T183248
CREATED:20251029T130539Z
LAST-MODIFIED:20251029T225955Z
UID:10000769-1908057600-1908143999@www.padental.org
SUMMARY:Juneteenth
DESCRIPTION:Learn More
URL:https://www.padental.org/event/juneteenth/2030-06-19/
CATEGORIES:Federal and Faith-Based Celebrations
END:VEVENT
BEGIN:VEVENT
DTSTART;TZID=America/New_York:20300815T080000
DTEND;TZID=America/New_York:20300815T170000
DTSTAMP:20260422T183248
CREATED:20251029T174929Z
LAST-MODIFIED:20251029T231531Z
UID:10000859-1913011200-1913043600@www.padental.org
SUMMARY:Feast of the Assumption
DESCRIPTION:Learn More
URL:https://www.padental.org/event/feast-of-the-assumption/2030-08-15/
CATEGORIES:Federal and Faith-Based Celebrations
END:VEVENT
BEGIN:VEVENT
DTSTART;VALUE=DATE:20300911
DTEND;VALUE=DATE:20300912
DTSTAMP:20260422T183248
CREATED:20251029T182150Z
LAST-MODIFIED:20251029T232425Z
UID:10000905-1915315200-1915401599@www.padental.org
SUMMARY:Patriot Day
DESCRIPTION:Learn More
URL:https://www.padental.org/event/patriot-day/2030-09-11/
CATEGORIES:Federal and Faith-Based Celebrations
END:VEVENT
BEGIN:VEVENT
DTSTART;VALUE=DATE:20301013
DTEND;VALUE=DATE:20301014
DTSTAMP:20260422T183248
CREATED:20250930T174448Z
LAST-MODIFIED:20251029T193800Z
UID:10000120-1918108800-1918141200@www.padental.org
SUMMARY:Sukkot
DESCRIPTION:Learn More
URL:https://www.padental.org/event/sukkot/2030-10-13/
CATEGORIES:Federal and Faith-Based Celebrations
END:VEVENT
BEGIN:VEVENT
DTSTART;VALUE=DATE:20301014
DTEND;VALUE=DATE:20301015
DTSTAMP:20260422T183248
CREATED:20260106T205632Z
LAST-MODIFIED:20260106T205632Z
UID:10001540-1918166400-1918252799@www.padental.org
SUMMARY:Columbus Day
DESCRIPTION:Learn more
URL:https://www.padental.org/event/columbus-day/2030-10-14/1/
CATEGORIES:Federal and Faith-Based Celebrations
END:VEVENT
BEGIN:VEVENT
DTSTART;VALUE=DATE:20301014
DTEND;VALUE=DATE:20301015
DTSTAMP:20260422T183248
CREATED:20260106T205632Z
LAST-MODIFIED:20260106T205632Z
UID:10001544-1918195200-1918227600@www.padental.org
SUMMARY:Columbus Day
DESCRIPTION:Learn more
URL:https://www.padental.org/event/columbus-day/2030-10-14/2/
CATEGORIES:Federal and Faith-Based Celebrations
END:VEVENT
BEGIN:VEVENT
DTSTART;VALUE=DATE:20301111
DTEND;VALUE=DATE:20301112
DTSTAMP:20260422T183248
CREATED:20250930T202021Z
LAST-MODIFIED:20251211T215914Z
UID:10001137-1920585600-1920671999@www.padental.org
SUMMARY:Veteran's Day
DESCRIPTION:Learn More
URL:https://www.padental.org/event/veterans-day/2030-11-11/
CATEGORIES:Federal and Faith-Based Celebrations
END:VEVENT
BEGIN:VEVENT
DTSTART;VALUE=DATE:20301123
DTEND;VALUE=DATE:20301124
DTSTAMP:20260422T183248
CREATED:20250930T184217Z
LAST-MODIFIED:20251029T194502Z
UID:10000195-1921651200-1921683600@www.padental.org
SUMMARY:Diwali
DESCRIPTION:Learn More
URL:https://www.padental.org/event/diwali/2030-11-23/
CATEGORIES:Federal and Faith-Based Celebrations
END:VEVENT
BEGIN:VEVENT
DTSTART;VALUE=DATE:20301201
DTEND;VALUE=DATE:20301202
DTSTAMP:20260422T183248
CREATED:20250930T210115Z
LAST-MODIFIED:20251029T202152Z
UID:10000342-1922342400-1922374800@www.padental.org
SUMMARY:Hanukkah
DESCRIPTION:Learn More
URL:https://www.padental.org/event/hanukkah/2030-12-01/
CATEGORIES:Federal and Faith-Based Celebrations
END:VEVENT
BEGIN:VEVENT
DTSTART;VALUE=DATE:20301208
DTEND;VALUE=DATE:20301209
DTSTAMP:20260422T183248
CREATED:20250930T205652Z
LAST-MODIFIED:20251211T224714Z
UID:10001157-1922918400-1923004799@www.padental.org
SUMMARY:Bodhi Day
DESCRIPTION:Learn More
URL:https://www.padental.org/event/bodhi-day/2030-12-08/
CATEGORIES:Federal and Faith-Based Celebrations
END:VEVENT
BEGIN:VEVENT
DTSTART;VALUE=DATE:20311112
DTEND;VALUE=DATE:20311113
DTSTAMP:20260422T183248
CREATED:20250930T184217Z
LAST-MODIFIED:20251029T194502Z
UID:10000196-1952236800-1952269200@www.padental.org
SUMMARY:Diwali
DESCRIPTION:Learn More
URL:https://www.padental.org/event/diwali/2031-11-12/
CATEGORIES:Federal and Faith-Based Celebrations
END:VEVENT
BEGIN:VEVENT
DTSTART;VALUE=DATE:20311220
DTEND;VALUE=DATE:20311221
DTSTAMP:20260422T183248
CREATED:20250930T210115Z
LAST-MODIFIED:20251029T202152Z
UID:10000343-1955520000-1955552400@www.padental.org
SUMMARY:Hanukkah
DESCRIPTION:Learn More
URL:https://www.padental.org/event/hanukkah/2031-12-20/
CATEGORIES:Federal and Faith-Based Celebrations
END:VEVENT
BEGIN:VEVENT
DTSTART;VALUE=DATE:20321101
DTEND;VALUE=DATE:20321102
DTSTAMP:20260422T183248
CREATED:20250930T184217Z
LAST-MODIFIED:20251029T194502Z
UID:10000197-1982908800-1982941200@www.padental.org
SUMMARY:Diwali
DESCRIPTION:Learn More
URL:https://www.padental.org/event/diwali/2032-11-01/
CATEGORIES:Federal and Faith-Based Celebrations
END:VEVENT
BEGIN:VEVENT
DTSTART;VALUE=DATE:20321210
DTEND;VALUE=DATE:20321211
DTSTAMP:20260422T183248
CREATED:20250930T210115Z
LAST-MODIFIED:20251029T202152Z
UID:10000344-1986278400-1986310800@www.padental.org
SUMMARY:Hanukkah
DESCRIPTION:Learn More
URL:https://www.padental.org/event/hanukkah/2032-12-10/
CATEGORIES:Federal and Faith-Based Celebrations
END:VEVENT
END:VCALENDAR