BEGIN:VCALENDAR
VERSION:2.0
PRODID:-//Pennsylvania Dental Association - ECPv6.15.20//NONSGML v1.0//EN
CALSCALE:GREGORIAN
METHOD:PUBLISH
X-ORIGINAL-URL:https://www.padental.org
X-WR-CALDESC:Events for Pennsylvania Dental Association
REFRESH-INTERVAL;VALUE=DURATION:PT1H
X-Robots-Tag:noindex
X-PUBLISHED-TTL:PT1H
BEGIN:VTIMEZONE
TZID:America/New_York
BEGIN:DAYLIGHT
TZOFFSETFROM:-0500
TZOFFSETTO:-0400
TZNAME:EDT
DTSTART:20250309T070000
END:DAYLIGHT
BEGIN:STANDARD
TZOFFSETFROM:-0400
TZOFFSETTO:-0500
TZNAME:EST
DTSTART:20251102T060000
END:STANDARD
BEGIN:DAYLIGHT
TZOFFSETFROM:-0500
TZOFFSETTO:-0400
TZNAME:EDT
DTSTART:20260308T070000
END:DAYLIGHT
BEGIN:STANDARD
TZOFFSETFROM:-0400
TZOFFSETTO:-0500
TZNAME:EST
DTSTART:20261101T060000
END:STANDARD
BEGIN:DAYLIGHT
TZOFFSETFROM:-0500
TZOFFSETTO:-0400
TZNAME:EDT
DTSTART:20270314T070000
END:DAYLIGHT
BEGIN:STANDARD
TZOFFSETFROM:-0400
TZOFFSETTO:-0500
TZNAME:EST
DTSTART:20271107T060000
END:STANDARD
END:VTIMEZONE
BEGIN:VEVENT
DTSTART;TZID=America/New_York:20260506T083000
DTEND;TZID=America/New_York:20260506T153000
DTSTAMP:20260420T110405
CREATED:20251224T160522Z
LAST-MODIFIED:20260226T190254Z
UID:10001339-1778056200-1778081400@www.padental.org
SUMMARY:Oral Mucosal Disease: An Update
DESCRIPTION:Register for this Event \n\nPhiladelphia County Dental Society & Pennsylvania Dental Association present:\n \n8:30 a.m. – 3:30 p.m. — CE 46 Oral Mucosal Disease: An Update for the Oral Health Care Practitioner\nPresented by: Thomas P. Sollecito\, DMD\, FDS\, RCSEd\, Chair of the Department of Oral Medicine and Professor of Oral Medicine at the University of Pennsylvania School of Dental Medicine. He has authored numerous papers and chapters related to various topics in Oral Medicine including facial pain\, mucosal disease\, and treatment of medically complex dental patients. Dr. Sollecito\, faculty for this educational event\, has received a research grant from the National Institute of Dental and Craniofacial Research (NIDCR). All of the relevant financial relationships have been mitigated. \nThe lecture will review common oral mucosal diseases encountered in daily practice focusing on the diagnosis and treatment of those disorders. Dr. Sollecito also will discuss systemic concerns in relation to oral findings.\nEducation methods: lecture\, slides\, case studies and discussion.\n \n\n\n\nDate:\nWednesday\, May 6\, 2026\n\n\nTime:\n8:30 a.m. – 3:30 p.m.\n\n\n\nLocation:\nCourtyard Marriott Philadelphia City Avenue\n\n\n\nFees:\n\n$175 – PCDS Member\n$250 – ADA/PDA Member dentist\n$95 – Non-dentist dental team employed by PCDS/ADA/PDA Member\n$300 – Nonmember dentist\n$125 – Non-dentist dental team employed by nonmember \n\n\nCE Credits:\n 6 credit hours recommended for dentists\, hygienists\, EFDAs and assistants\n\n\n\n\n  \nCancellation policy: No refunds on courses purchased as part of the CE package. Refunds for courses purchased individually will be issued less a 10% administrative fee if the registration is cancelled in writing seven days prior to the program you are attending. Refunds are not issued for no shows.\n\nFull-day course tuition includes lunch and FREE parking.\n\n\n \nPDA is an ADA CERP Recognized Provider\nADA CERP is a service of the American Dental Association to assist dental professionals in identifying quality providers of continuing dental education. ADA CERP does not approve or endorse individual courses or instructors\, nor does it imply acceptance of credit hours by boards of dentistry.\nPDA designates this activity for 6 (six) continuing education credits. \n  \nTo register online please follow these steps:\nNon-dentist dental team members who are not attending the course with a dentist\, PCDS associate members and non-member dentists should email Rebecca to request a registration form.\n1. Sign in to the website. Every PDA member dentist has a record. For most dentists\, your website default username is your first initial\, last name and four-digit year of birth with no spaces\, no punctuation. The default password is lowercase ada and your ADA number. If you don’t remember your username and password\, please contact PDA’s membership department. \n2. Click the Register Myself button. Pricing will be applied based on your member status. The Register Myself button will not appear if your name is not displayed at the top of the website page. \n3. To register non-dentist (hygienists\, assistants or non-licensed guests) attendees for the same course the doctor is registered to complete\, click +Add a Guest under “My Registration Status:” to add your guest. Click Add to select the program they will attend. \n\nIf you have previously attended a PDA program with a non-dentist guest\, that person may appear as an existing contact. If the Select an existing contact option appears and the correct guest’s name is displayed when clicking in the box\, please select his or her name. If a unique email address is not listed for this guest\, please add it. Click Save & Close.\nIf the Select an existing contact option does not appear\, please enter the name of the guest\, his or her designation (RDH\, EFDA) and a unique email address; click Save & Close.\nRepeat the process until all guests are registered.\nPlease note: if the same email address is used for all registrants\, only one “reminder to attend” email will be sent.\n\n4. Click Proceed to Checkout to review your order and enter your credit card information. \n5. Click Submit Order to complete your registration. You will receive a confirmation email.\n\nPlease contact Rebecca Von Nieda at (717) 234-5941\, ext. 117 with any questions about the meeting or online registration. \n\n 
URL:https://www.padental.org/event/ce46_2_26-oral-mucosal-disease-an-update/
LOCATION:Courtyard Marriott City Avenue\, Courtyard Marriott City Avenue\n4100 Presidential Blvd\, Philadelphia\, 19131
CATEGORIES:PDA Sponsored CE
END:VEVENT
BEGIN:VEVENT
DTSTART;TZID=America/New_York:20260515T090000
DTEND;TZID=America/New_York:20260515T163000
DTSTAMP:20260420T110405
CREATED:20260117T160526Z
LAST-MODIFIED:20260226T192243Z
UID:10001558-1778835600-1778862600@www.padental.org
SUMMARY:Oral Cancer Screening and Management Strategies
DESCRIPTION:Register for this Event \n\nOral Cancer Screening and Management Strategies\nSix CE credits recommended for dentists\, hygienists\, assistants and EFDAs.\nEducation Methods: lecture\, slides and discussion. \nThe lecture will review common oral mucosal diseases including oral cancer and review risk factors for oral cancer and oral potentially malignant disease\, as well as complexities in the detection methods for diagnosis of oral potentially malignant disease and review current surgical and non-surgical treatment strategies. This course also will provide guidance on the pre-cancer treatment plan including the dental evaluation prior to anticipated cancer treatment and describe the dental management of oral cancer patients including long-term follow-up as well as oral complications of head and neck cancer therapy. \nAttendees can expect to learn more about:\n– Evaluating the oral cavity to diagnose common oral mucosal disease including oral cancer and oral potentially malignant disease.\n– The risk factors and epidemiology for oral cancer/oral potentially malignant disease.\n– The current rise of HPV and its impact on the prognosis and managment of oropharyngeal cancer.\n– Surgical and non-surgical treatment strategies of oral cancer/oral potentially malignant disease.\n– Management and long-term follow up of the oral cancer patient and oral complications of cancer therapy.\nPresented by: Thomas P. Sollecito\, DMD\, FDS\, RCSEd\, Chair of the Department of Oral Medicine and Professor of Oral Medicine at the University of Pennsylvania School of Dental Medicine and Chief of the Oral Medicine Division at the University of Pennsylvania Health System. Dr. Thomas P. Sollecito has received a research grant from National Institute of Dental and Craniofacial Research. All of the relevant financial relationships listed have been mitigated.\n\n \n\n\n\nDate:\nFriday\, May 15\, 2026\n\n\nTime:\n9:00 a.m. – 4:30 p.m.\nRegistration and breakfast at 8:30 a.m. Tuition also includes lunch\n\n\nLocation:\nThe Royal Inn 17089 Boot Jack Rd #219\, Ridgway\, PA 15853\n\n\n\nFees:\n\n$175 – PDA/ADA Member dentist\n$100 – PDA Retired/Life Member or Member w/ Volunteer License\n$275 – Nonmember dentist\n$95 – Non-dentist dental team \n\n\nCE Credits:\n 6 continuing education credits for dentists\, hygienists\, assistants and EFDAs\n\n\n\n\n  \nCancellation policy: A refund\, less a 10% administrative fee\, will be issued if the registration is cancelled in writing seven days prior to the program you are attending. Refunds are not issued for no shows.\n\nPDA is an ADA CERP Recognized Provider  \n\nADA CERP is a service of the American Dental Association to assist dental professionals in identifying quality providers of continuing dental education. ADA CERP does not approve or endorse individual courses or instructors\, nor does it imply acceptance of credit hours by boards of dentistry.\nPDA designates this activity for 6 (six) continuing education credits.\n \n  \nOnline registration is available to PDA member\ndentists and their non-dentist team members. PDA member dentists have a user id and password for PDA’s website. To register online\, sign in with your user id (default is your first initial\, last name and 4 digit year of birth with no spaces or punctuation) and password (default is lowercase letters ada and your ADA membership number with no spaces or punctuation).\nADA dentists outside\nPA\, non-member dentists and dental team members who are not attending the\nmeeting with a PDA member dentist\, should contact PDA at (717) 234-5941\,\next. 117 or email Rebecca at rvn@padental.org. \n 
URL:https://www.padental.org/event/ce8reg2_26-oral-cancer-screening-and-management-strategies/
LOCATION:The Royal Inn – Ridgway\, The Royal Inn - Ridgway\n17089 Boot Jack Rd #219\, Ridgway\, 15853
CATEGORIES:PDA Sponsored CE
END:VEVENT
BEGIN:VEVENT
DTSTART;TZID=America/New_York:20260515T090000
DTEND;TZID=America/New_York:20260515T163000
DTSTAMP:20260420T110405
CREATED:20260219T220523Z
LAST-MODIFIED:20260227T144315Z
UID:10001570-1778835600-1778862600@www.padental.org
SUMMARY:Clear Aligners
DESCRIPTION:Register for this Event \n\nClear Aligners\nSix CE credits recommended for dentists\, hygienists and dental assistants\nEducation Methods: lecture\, slides\, case studies and discussion \nClear aligners have become a very popular choice for patients interested in straightening their teeth. This lecture is loaded with practical information and tips that you can use. This lecture is valuable if you are thinking of treating a clear aligner case for the very first time or are an experienced practitioner who wants to expand their practice. \nAt the conclusion of the course\, participants should:\n— have a basic knowledge of the biomechanics of tooth movement needed to move teeth with clear aligners.\n— learn more about in-house orthodontic software and 3D printing.\n— understand all the steps involved in treatment and know what to look for in a finished orthodontic case.\n \nPresented by Harold Slutsky\, DMD\, clinical associate professor (adjunct) of Orthodontics at the Kornberg School of Dentistry at Temple University. In addition\, Dr. Slutsky is a published author in several peer-reviewed journals; is a Diplomate of the American Board of Orthodontics and maintains a private practice in Northeast Philadelphia and Bensalem\, PA. Dr. Slutsky has no relevant financial relationships to disclose. \n\n\n\n\n\nDate:\nFriday\, May 15\, 2026\n\n\nTime:\n9:00 a.m. – 4:30 p.m.\nRegistration at 8:30 a.m. Snacks provided; Meals are on your own\n\n\nLocation:\nTokishi Training Center\, 124 Nypum Dr\, Wellsboro\, PA16901\n\n\n\nFees:\n\n$150 – PDA/ADA Member dentist\n$0 – PDA Retired/Life Member or Member w/ Volunteer License\n$250 – Nonmember dentist\n$90 – Non-dentist dental team\n\n\nCE Credits:\n 6 continuing education credits\n\n\n\n\n  \nCancellation policy: A refund\, less a 10% administrative fee\, will be issued if the registration is cancelled in writing seven days prior to the program you are attending. Refunds are not issued for no shows. \n\n \nPDA is an ADA CERP Recognized Provider\nADA CERP is a service of the American Dental Association to assist dental professionals in identifying quality providers of continuing dental education. ADA CERP does not approve or endorse individual courses or instructors\, nor does it imply acceptance of credit hours by boards of dentistry.\nPDA designates this activity for 6 (six) continuing education credits. \n  \nOnline registration is available to PDA member dentists and their non-dentist team members. PDA member dentists have a user id and password for PDA’s website. To register online\, sign in with your user id (for most members\, the default user id is your first initial\, last name and 4 digit year of birth with no spaces or punctuation) and password (default is lowercase letters ada and your ADA membership number with no spaces or punctuation).\nADA dentists outside PA\, non-member dentists and dental team members who are not attending the meeting with a PDA member dentist\, should contact PDA at (717) 234-5941\, ext. 117 or email Rebecca at rvn@padental.org. \n\n  \n 
URL:https://www.padental.org/event/cewell1_26-clear-aligners/
LOCATION:Tokishi Training Center\, 124 Nypum Dr\, Wellsboro\, PA\, 16901\, United States
CATEGORIES:PDA Sponsored CE
END:VEVENT
END:VCALENDAR