BEGIN:VCALENDAR
VERSION:2.0
PRODID:-//Pennsylvania Dental Association - ECPv6.15.20//NONSGML v1.0//EN
CALSCALE:GREGORIAN
METHOD:PUBLISH
X-WR-CALNAME:Pennsylvania Dental Association
X-ORIGINAL-URL:https://www.padental.org
X-WR-CALDESC:Events for Pennsylvania Dental Association
REFRESH-INTERVAL;VALUE=DURATION:PT1H
X-Robots-Tag:noindex
X-PUBLISHED-TTL:PT1H
BEGIN:VTIMEZONE
TZID:America/New_York
BEGIN:DAYLIGHT
TZOFFSETFROM:-0500
TZOFFSETTO:-0400
TZNAME:EDT
DTSTART:20240310T070000
END:DAYLIGHT
BEGIN:STANDARD
TZOFFSETFROM:-0400
TZOFFSETTO:-0500
TZNAME:EST
DTSTART:20241103T060000
END:STANDARD
BEGIN:DAYLIGHT
TZOFFSETFROM:-0500
TZOFFSETTO:-0400
TZNAME:EDT
DTSTART:20250309T070000
END:DAYLIGHT
BEGIN:STANDARD
TZOFFSETFROM:-0400
TZOFFSETTO:-0500
TZNAME:EST
DTSTART:20251102T060000
END:STANDARD
BEGIN:DAYLIGHT
TZOFFSETFROM:-0500
TZOFFSETTO:-0400
TZNAME:EDT
DTSTART:20260308T070000
END:DAYLIGHT
BEGIN:STANDARD
TZOFFSETFROM:-0400
TZOFFSETTO:-0500
TZNAME:EST
DTSTART:20261101T060000
END:STANDARD
END:VTIMEZONE
BEGIN:VEVENT
DTSTART;TZID=America/New_York:20251105T090000
DTEND;TZID=America/New_York:20251105T163000
DTSTAMP:20260420T211537
CREATED:20250930T195111Z
LAST-MODIFIED:20251212T193713Z
UID:10000033-1762333200-1762360200@www.padental.org
SUMMARY:A New Era in Conservative Esthetic Dentistry
DESCRIPTION:A New Era in Conservative Esthetic Dentistry \n6 CE credits appropriate for dentists\, assistants and EFDAs\nEducation Method: powerpoint\, lecture and discussion \nThis course will examine how technology has made it possible for clinicians to turn any prepped veneer case into a no-prep case\, making our treatment much more conservative and more acceptable to the patient. A new approach to new patient exams with the use of a digital scanner and an included oral health software suite will also be shown to see how it can increase patient understanding and acceptance to necessary treatment.\nPresented by Michael DiTolla\, DDS\, FAGD\, who served as the Director of Clinical Education for Glidewell Labs for 15 years before going back to a private practice focused on clear aligners\, veneers and obstructive sleep apnea in Lodi\, California. Dr. DiTolla has no relevant financial relationships to disclose. \nAt the end of the course\, participants can expect to have a greater understanding of:\n– the rationale for turning prepped veneer cases into no-prep cases.\n– the software necessary to plan and execute an esthetic no-prep veneer case.\n– how to stop inadvertently under-reducing preparations which leads to bulky\, unesthetic crowns.\n– a new way to adjust permanent crowns prior to final cementation. \n\n\n\n Date: \n Wednesday\, November 5\, 2025\n\n\n Time:\n\n9:00 a.m. – 4:30 p.m.\nRegistation opens at 8:30 a.m.\n\n\n Location: \n\nGeisinger Medical Center\, Henry Hood Center\nSnacks provided; meals are on your own\n\n\n Fees: \n\n$145 – PDA/ADA member dentists\n$0 – PDA Retired/Life member dentists\n$245 – Non-member dentists\n$85 – Non-dentist dental team\n\n\n CE Credits: \n 6 CE credits for dentists\, hygienists\, assistants and EFDAs\n\n\n\nOnline registration is available to PDA member dentists and non-dentist dental team members. ADA members residing outside PA\, non-member dentists and dental team members attending without a dentist will need a username and password so contact PDA before you register. Call (717) 234-5941\, ext. 117 Monday through Friday from 8:30 a.m. to 5:00 p.m. After hours or holidays email rvn@padental.org.\nAll PDA member dentists have a username and password for PDA’s website. For many dentists\, your username will be your first initial\, last name and 4 digit year of birth with no spaces or punctuation. The default password is lowercase letters ada followed by your ADA membership number (no spaces or punctuation). Contact PDA via phone or email rvn@padental.org if you need assistance to register.
URL:https://www.padental.org/event/a-new-era-in-conservative-esthetic-dentistry/
LOCATION:Geisinger Medical Center\, Henry Hood Center\, Danville\, 17821\, United States
CATEGORIES:PDA Sponsored CE
END:VEVENT
END:VCALENDAR