BEGIN:VCALENDAR
VERSION:2.0
PRODID:-//Pennsylvania Dental Association - ECPv6.15.20//NONSGML v1.0//EN
CALSCALE:GREGORIAN
METHOD:PUBLISH
X-WR-CALNAME:Pennsylvania Dental Association
X-ORIGINAL-URL:https://www.padental.org
X-WR-CALDESC:Events for Pennsylvania Dental Association
REFRESH-INTERVAL;VALUE=DURATION:PT1H
X-Robots-Tag:noindex
X-PUBLISHED-TTL:PT1H
BEGIN:VTIMEZONE
TZID:America/New_York
BEGIN:DAYLIGHT
TZOFFSETFROM:-0500
TZOFFSETTO:-0400
TZNAME:EDT
DTSTART:20240310T070000
END:DAYLIGHT
BEGIN:STANDARD
TZOFFSETFROM:-0400
TZOFFSETTO:-0500
TZNAME:EST
DTSTART:20241103T060000
END:STANDARD
BEGIN:DAYLIGHT
TZOFFSETFROM:-0500
TZOFFSETTO:-0400
TZNAME:EDT
DTSTART:20250309T070000
END:DAYLIGHT
BEGIN:STANDARD
TZOFFSETFROM:-0400
TZOFFSETTO:-0500
TZNAME:EST
DTSTART:20251102T060000
END:STANDARD
BEGIN:DAYLIGHT
TZOFFSETFROM:-0500
TZOFFSETTO:-0400
TZNAME:EDT
DTSTART:20260308T070000
END:DAYLIGHT
BEGIN:STANDARD
TZOFFSETFROM:-0400
TZOFFSETTO:-0500
TZNAME:EST
DTSTART:20261101T060000
END:STANDARD
END:VTIMEZONE
BEGIN:VEVENT
DTSTART;TZID=America/New_York:20251114T090000
DTEND;TZID=America/New_York:20251114T163000
DTSTAMP:20260420T193223
CREATED:20250930T202544Z
LAST-MODIFIED:20251212T193929Z
UID:10000043-1763110800-1763137800@www.padental.org
SUMMARY:Modern Anterior Composite Techniques
DESCRIPTION:Modern Anterior Composite Techniques\nSix CE credits recommended for dentists\, dental assistants and EFDAs.\nEducation Methods: Lecture\, slides and discussion \nThere are a plethora of composite materials and matrices available on the market. This course aims to give the practitioner insight into some of the modern techniques available today to make modern direct composite simple and predictable. This course also will discuss metal and plastic matrices\, as well as sectional and “full-contour” ones.\nPresented by:Arthur Volker\, DDS\, MSc\, MSEd\, a practicing dentist and Key Opinion Leader for several dental manufacturers who has been involved in the testing and development of dental products and materials. He also is involved in dental materials research\, particularly in the field of ceramics and dental implants. Dr. Volker has no additional financial disclosures relevant to this lecture. \n\n\n\nDate:\nFriday\, November 14\, 2025\n\n\nTime:\n9:00 a.m. – 4:30 p.m.\nRegistration at 8:30 a.m. Tuition includes breakfast and lunch.\n\n\nLocation:\nConference Center at Shippensburg University\n\n\nFees:\n\n$170 – PDA/ADA Member dentist\n$95 – PDA Retired/Life Member or Member w/ Volunteer License\n$270 – Nonmember dentist\n$95 – Non-dentist dental team\n\n\nCE Credits:\n 6 continuing education credits\n\n\n\n  \nCancellation policy: A refund\, less a 10% administrative fee\, will be issued if the registration is cancelled in writing seven days prior to the program you are attending. Refunds are not issued for no shows. \n \nPDA is an ADA CERP Recognized Provider\nADA CERP is a service of the American Dental Association to assist dental professionals in identifying quality providers of continuing dental education. ADA CERP does not approve or endorse individual courses or instructors\, nor does it imply acceptance of credit hours by boards of dentistry.\nPDA designates this activity for 6 (six) continuing education credits. \n  \nOnline registration is available to PDA member dentists and their non-dentist team members. PDA member dentists have a user id and password for PDA’s website. To register online\, sign in with your user id (default is your first initial\, last name and 4 digit year of birth with no spaces or punctuation) and password (default is lowercase letters ada and your ADA membership number with no spaces or punctuation). \nADA dentists outside PA\, non-member dentists and dental team members who are not attending the meeting with a PDA member dentist\, should contact PDA at (717) 234-5941\, ext. 117 or email Rebecca at rvn@padental.org.
URL:https://www.padental.org/event/modern-anterior-composite-techniques/
LOCATION:Conference Center At Shippensburg University\, 500 Newburg Rd\, Shippensburg\, 17257\, United States
CATEGORIES:PDA Sponsored CE
END:VEVENT
BEGIN:VEVENT
DTSTART;TZID=America/New_York:20251114T090000
DTEND;TZID=America/New_York:20251114T163000
DTSTAMP:20260420T193223
CREATED:20251108T203809Z
LAST-MODIFIED:20251212T194007Z
UID:10001041-1763110800-1763137800@www.padental.org
SUMMARY:Modern Anterior Composite Techniques
DESCRIPTION:Modern Anterior Composite Techniques \nSix CE credits recommended for dentists\, dental assistants and EFDAs.\nEducation Methods: Lecture\, slides and discussion \nThere are a plethora of composite materials and matrices available on the market. This course aims to give the practitioner insight into some of the modern techniques available today to make modern direct composite simple and predictable. This course also will discuss metal and plastic matrices\, as well as sectional and “full-contour” ones.\nPresented by:Arthur Volker\, DDS\, MSc\, MSEd\, a practicing dentist and Key Opinion Leader for several dental manufacturers who has been involved in the testing and development of dental products and materials. He also is involved in dental materials research\, particularly in the field of ceramics and dental implants. Dr. Volker has no additional financial disclosures relevant to this lecture. \n \n\n\n\nDate:\nFriday\, November 14\, 2025\n            \n\n\nTime:\n9:00 a.m. – 4:30 p.m.\n            Registration at 8:30 a.m. Tuition includes breakfast and lunch.\n\n\nLocation:\nConference Center at Shippensburg University\n            \n\n\nFees:\n            \n$170 – PDA/ADA Member dentist\n            $95 – PDA Retired/Life Member or Member w/ Volunteer License\n            $270 – Nonmember dentist\n            $95 – Non-dentist dental team\n\n\nCE Credits:\n            \n 6 continuing education credits \n            \n\n\n\n\n \nCancellation policy: A refund\, less a 10% administrative fee\, will be issued if the registration is cancelled in writing seven days prior to the program you are attending. Refunds are not issued for no shows. \n\n \nPDA is an ADA CERP Recognized Provider \nADA CERP is a service of the American Dental Association to assist dental professionals in identifying quality providers of continuing dental education. ADA CERP does not approve or endorse individual courses or instructors\, nor does it imply acceptance of credit hours by boards of dentistry.\nPDA designates this activity for 6 (six) continuing education credits. \n  \nOnline registration is available to PDA member dentists and their non-dentist team members. PDA member dentists have a user id and password for PDA’s website. To register online\, sign in with your user id (default is your first initial\, last name and 4 digit year of birth with no spaces or punctuation) and password (default is lowercase letters ada and your ADA membership number with no spaces or punctuation).\n \nADA dentists outside PA\, non-member dentists and dental team members who are not attending the meeting with a PDA member dentist\, should contact PDA at (717) 234-5941\, ext. 117 or email Rebecca at rvn@padental.org. \n \nRegister for this Event
URL:https://www.padental.org/event/ceship3_25-modern-anterior-composite-techniques/
LOCATION:Conference Center At Shippensburg University\, 500 Newburg Rd\, Shippensburg\, 17257\, United States
CATEGORIES:PDA Sponsored CE
END:VEVENT
BEGIN:VEVENT
DTSTART;TZID=America/New_York:20251114T090000
DTEND;TZID=America/New_York:20251114T163000
DTSTAMP:20260420T193223
CREATED:20251115T010537Z
LAST-MODIFIED:20251212T194147Z
UID:10001066-1763110800-1763137800@www.padental.org
SUMMARY:Modern Anterior Composite Techniques
DESCRIPTION:Modern Anterior Composite Techniques \nSix CE credits recommended for dentists\, dental assistants and EFDAs.\nEducation Methods: Lecture\, slides and discussion \nThere are a plethora of composite materials and matrices available on the market. This course aims to give the practitioner insight into some of the modern techniques available today to make modern direct composite simple and predictable. This course also will discuss metal and plastic matrices\, as well as sectional and “full-contour” ones.\nPresented by:Arthur Volker\, DDS\, MSc\, MSEd\, a practicing dentist and Key Opinion Leader for several dental manufacturers who has been involved in the testing and development of dental products and materials. He also is involved in dental materials research\, particularly in the field of ceramics and dental implants. Dr. Volker has no additional financial disclosures relevant to this lecture. \n \n\n\n\nDate:\nFriday\, November 14\, 2025\n            \n\n\nTime:\n9:00 a.m. – 4:30 p.m.\n            Registration at 8:30 a.m. Tuition includes breakfast and lunch.\n\n\nLocation:\nConference Center at Shippensburg University\n            \n\n\nFees:\n            \n$170 – PDA/ADA Member dentist\n            $95 – PDA Retired/Life Member or Member w/ Volunteer License\n            $270 – Nonmember dentist\n            $95 – Non-dentist dental team\n\n\nCE Credits:\n            \n 6 continuing education credits \n            \n\n\n\n\n \nCancellation policy: A refund\, less a 10% administrative fee\, will be issued if the registration is cancelled in writing seven days prior to the program you are attending. Refunds are not issued for no shows. \n\n \nPDA is an ADA CERP Recognized Provider \nADA CERP is a service of the American Dental Association to assist dental professionals in identifying quality providers of continuing dental education. ADA CERP does not approve or endorse individual courses or instructors\, nor does it imply acceptance of credit hours by boards of dentistry.\nPDA designates this activity for 6 (six) continuing education credits. \n  \nOnline registration is available to PDA member dentists and their non-dentist team members. PDA member dentists have a user id and password for PDA’s website. To register online\, sign in with your user id (default is your first initial\, last name and 4 digit year of birth with no spaces or punctuation) and password (default is lowercase letters ada and your ADA membership number with no spaces or punctuation).\n \nADA dentists outside PA\, non-member dentists and dental team members who are not attending the meeting with a PDA member dentist\, should contact PDA at (717) 234-5941\, ext. 117 or email Rebecca at rvn@padental.org. \n \nRegister for this Event
URL:https://www.padental.org/event/ceship3_25-modern-anterior-composite-techniques-4/
CATEGORIES:PDA Sponsored CE
END:VEVENT
BEGIN:VEVENT
DTSTART;TZID=America/New_York:20251114T090000
DTEND;TZID=America/New_York:20251114T163000
DTSTAMP:20260420T193223
CREATED:20251115T030525Z
LAST-MODIFIED:20251212T194214Z
UID:10001069-1763110800-1763137800@www.padental.org
SUMMARY:Nutrition and Oral Care Products
DESCRIPTION: \nNutrition and Oral Care Products: Demystifying This Dynamic Duo to Build a Personalized Approach to Oral Health\nSix CE credits recommended for dentists\, hygienists\, EFDAs and assistants.\nEducation Methods: lecture\, slides\, and discussion\n\nThis comprehensive course delves into the powerful partnership between nutrition and oral care products for optimal oral health. By exploring the intersection of dietary choices and the latest advancements in oral care products\, participants will gain a nuanced understanding of how to incorporate both nutritional advice and the effective use of OTC products into patient guidance. Dental professionals will gain information on:\n– symptoms of nutritional deficiencies and supplement excesses\n– dietary supplements\, oral probiotics and the impact of food fads on oral health\n– how allergies and sensitivities factor into decision making for product choices in our practice and recommendations to patients\n– the risks associated with E-cigarette vapor ingredients\n– the science behind new and unique oral care products on the market\n– trends like Sodium Laurel Sulfate\, BPA and Triclosan\nPresented by: Linda Straub-Bruce\, RDH\, PHDHP\, MHSA\, FADHA\, operations and finance director of a busy multi-doctor practice in Erie\, PA and part-time clinical faculty member at the LECOM Dental Outreach Clinic. Linda has no relevant financial relationships to disclose. \n\n\n\n\n\nDate:\nFriday\, November 14\, 2025\n            \n\n\nTime:\n9:00 a.m. – 4:30 p.m.\n            Registration at 8:30 a.m. Breakfast and lunch provided\n\n\nLocation:\nDuBois Country Club\n            \n\n\nFees:\n            \n$170 – PDA/ADA Member dentist\n            $95 – PDA Retired/Life Member\n            $270 – Nonmember dentist\n            $95 – Non-dentist dental team\n\n\nCE Credits:\n            \n 6 continuing education credits \n            \n\n\n\n\n \nCancellation policy: A refund\, less a 10% administrative fee\, will be issued if the registration is cancelled in writing seven days prior to the program you are attending. Refunds are not issued for no shows. \n\n \nPDA is an ADA CERP Recognized Provider \nADA CERP is a service of the American Dental Association to assist dental professionals in identifying quality providers of continuing dental education. ADA CERP does not approve or endorse individual courses or instructors\, nor does it imply acceptance of credit hours by boards of dentistry.\nPDA designates this activity for 6 (six) continuing education credits. \nOnline registration is available to PDA member dentists and their non-dentist team members. PDA member dentists have a user id and password for PDA’s website. To register online\, sign in with your user id (default is your first initial\, last name and 4 digit year of birth with no spaces or punctuation) and password (default is lowercase letters ada and your ADA membership number with no spaces or punctuation). \nADA dentists outside PA\, non-member dentists and dental team members who are not attending the meeting with a PDA member dentist\, should contact PDA at (717) 234-5941\, ext. 117 or email Rebecca at rvn@padental.org. \n\nRegister for this Event
URL:https://www.padental.org/event/ce8dist325-nutrition-and-oral-care-products-5/
CATEGORIES:PDA Sponsored CE
END:VEVENT
END:VCALENDAR