BEGIN:VCALENDAR
VERSION:2.0
PRODID:-//Pennsylvania Dental Association - ECPv6.15.20//NONSGML v1.0//EN
CALSCALE:GREGORIAN
METHOD:PUBLISH
X-WR-CALNAME:Pennsylvania Dental Association
X-ORIGINAL-URL:https://www.padental.org
X-WR-CALDESC:Events for Pennsylvania Dental Association
REFRESH-INTERVAL;VALUE=DURATION:PT1H
X-Robots-Tag:noindex
X-PUBLISHED-TTL:PT1H
BEGIN:VTIMEZONE
TZID:America/New_York
BEGIN:DAYLIGHT
TZOFFSETFROM:-0500
TZOFFSETTO:-0400
TZNAME:EDT
DTSTART:20250309T070000
END:DAYLIGHT
BEGIN:STANDARD
TZOFFSETFROM:-0400
TZOFFSETTO:-0500
TZNAME:EST
DTSTART:20251102T060000
END:STANDARD
BEGIN:DAYLIGHT
TZOFFSETFROM:-0500
TZOFFSETTO:-0400
TZNAME:EDT
DTSTART:20260308T070000
END:DAYLIGHT
BEGIN:STANDARD
TZOFFSETFROM:-0400
TZOFFSETTO:-0500
TZNAME:EST
DTSTART:20261101T060000
END:STANDARD
BEGIN:DAYLIGHT
TZOFFSETFROM:-0500
TZOFFSETTO:-0400
TZNAME:EDT
DTSTART:20270314T070000
END:DAYLIGHT
BEGIN:STANDARD
TZOFFSETFROM:-0400
TZOFFSETTO:-0500
TZNAME:EST
DTSTART:20271107T060000
END:STANDARD
BEGIN:DAYLIGHT
TZOFFSETFROM:-0500
TZOFFSETTO:-0400
TZNAME:EDT
DTSTART:20280312T070000
END:DAYLIGHT
BEGIN:STANDARD
TZOFFSETFROM:-0400
TZOFFSETTO:-0500
TZNAME:EST
DTSTART:20281105T060000
END:STANDARD
BEGIN:DAYLIGHT
TZOFFSETFROM:-0500
TZOFFSETTO:-0400
TZNAME:EDT
DTSTART:20290311T070000
END:DAYLIGHT
BEGIN:STANDARD
TZOFFSETFROM:-0400
TZOFFSETTO:-0500
TZNAME:EST
DTSTART:20291104T060000
END:STANDARD
BEGIN:DAYLIGHT
TZOFFSETFROM:-0500
TZOFFSETTO:-0400
TZNAME:EDT
DTSTART:20300310T070000
END:DAYLIGHT
BEGIN:STANDARD
TZOFFSETFROM:-0400
TZOFFSETTO:-0500
TZNAME:EST
DTSTART:20301103T060000
END:STANDARD
END:VTIMEZONE
BEGIN:VEVENT
DTSTART;VALUE=DATE:20260525
DTEND;VALUE=DATE:20260526
DTSTAMP:20260420T012639
CREATED:20251029T115857Z
LAST-MODIFIED:20251211T214958Z
UID:10000722-1779667200-1779753599@www.padental.org
SUMMARY:Memorial Day
DESCRIPTION:  \n  \n \nLearn More
URL:https://www.padental.org/event/memorial-day/2026-05-25/
CATEGORIES:PDA Office Closed
END:VEVENT
BEGIN:VEVENT
DTSTART;VALUE=DATE:20260703
DTEND;VALUE=DATE:20260704
DTSTAMP:20260420T012639
CREATED:20251211T220652Z
LAST-MODIFIED:20251211T220652Z
UID:10001151-1783036800-1783123199@www.padental.org
SUMMARY:PDA Office Closed
DESCRIPTION:
URL:https://www.padental.org/event/pda-office-closed-3/
CATEGORIES:PDA Office Closed
END:VEVENT
BEGIN:VEVENT
DTSTART;VALUE=DATE:20260907
DTEND;VALUE=DATE:20260908
DTSTAMP:20260420T012639
CREATED:20251029T181317Z
LAST-MODIFIED:20251211T214753Z
UID:10000888-1788739200-1788825599@www.padental.org
SUMMARY:Labor Day
DESCRIPTION:  \nLearn More
URL:https://www.padental.org/event/labor-day/2026-09-07/
CATEGORIES:PDA Office Closed
END:VEVENT
BEGIN:VEVENT
DTSTART;VALUE=DATE:20261126
DTEND;VALUE=DATE:20261127
DTSTAMP:20260420T012639
CREATED:20250930T204753Z
LAST-MODIFIED:20251029T201529Z
UID:10000080-1795651200-1795737599@www.padental.org
SUMMARY:Thanksgiving
DESCRIPTION:Learn More
URL:https://www.padental.org/event/thanksgiving/2026-11-26/
CATEGORIES:PDA Office Closed
END:VEVENT
BEGIN:VEVENT
DTSTART;VALUE=DATE:20261127
DTEND;VALUE=DATE:20261128
DTSTAMP:20260420T012639
CREATED:20251211T220252Z
LAST-MODIFIED:20251211T220307Z
UID:10001139-1795737600-1795823999@www.padental.org
SUMMARY:PDA Office Closed
DESCRIPTION:
URL:https://www.padental.org/event/pda-office-closed/2026-11-27/
CATEGORIES:PDA Office Closed
END:VEVENT
BEGIN:VEVENT
DTSTART;VALUE=DATE:20261224
DTEND;VALUE=DATE:20261225
DTSTAMP:20260420T012639
CREATED:20251211T220455Z
LAST-MODIFIED:20251219T193049Z
UID:10001145-1798070400-1798156799@www.padental.org
SUMMARY:PDA Office Closing at 12PM
DESCRIPTION:
URL:https://www.padental.org/event/pda-office-closing-at-1pm/2026-12-24/
CATEGORIES:PDA Office Closed
END:VEVENT
BEGIN:VEVENT
DTSTART;VALUE=DATE:20261225
DTEND;VALUE=DATE:20261226
DTSTAMP:20260420T012639
CREATED:20250930T213141Z
LAST-MODIFIED:20251029T202441Z
UID:10000363-1798156800-1798243199@www.padental.org
SUMMARY:Christmas
DESCRIPTION:Learn More
URL:https://www.padental.org/event/christmas/2026-12-25/
CATEGORIES:PDA Office Closed
END:VEVENT
BEGIN:VEVENT
DTSTART;VALUE=DATE:20270101
DTEND;VALUE=DATE:20270102
DTSTAMP:20260420T012639
CREATED:20250930T213616Z
LAST-MODIFIED:20251029T201828Z
UID:10000944-1798761600-1798847999@www.padental.org
SUMMARY:New Year's Day
DESCRIPTION:Learn More
URL:https://www.padental.org/event/new-years-day/2027-01-01/
CATEGORIES:PDA Office Closed
END:VEVENT
BEGIN:VEVENT
DTSTART;VALUE=DATE:20270118
DTEND;VALUE=DATE:20270119
DTSTAMP:20260420T012639
CREATED:20251001T190749Z
LAST-MODIFIED:20251029T203035Z
UID:10000409-1800230400-1800316799@www.padental.org
SUMMARY:Martin Luther King\, Jr.\, Day
DESCRIPTION:Learn More
URL:https://www.padental.org/event/martin-luther-king-jr-day/2027-01-18/
CATEGORIES:PDA Office Closed
END:VEVENT
BEGIN:VEVENT
DTSTART;VALUE=DATE:20270216
DTEND;VALUE=DATE:20270217
DTSTAMP:20260420T012639
CREATED:20251027T141106Z
LAST-MODIFIED:20251029T204342Z
UID:10000494-1802736000-1802822399@www.padental.org
SUMMARY:President's Day
DESCRIPTION:Learn More
URL:https://www.padental.org/event/presidents-day/2027-02-16/
CATEGORIES:PDA Office Closed
END:VEVENT
BEGIN:VEVENT
DTSTART;VALUE=DATE:20270531
DTEND;VALUE=DATE:20270601
DTSTAMP:20260420T012639
CREATED:20251029T115857Z
LAST-MODIFIED:20251211T214958Z
UID:10000723-1811721600-1811807999@www.padental.org
SUMMARY:Memorial Day
DESCRIPTION:  \n  \n \nLearn More
URL:https://www.padental.org/event/memorial-day/2027-05-31/
CATEGORIES:PDA Office Closed
END:VEVENT
BEGIN:VEVENT
DTSTART;VALUE=DATE:20270704
DTEND;VALUE=DATE:20270705
DTSTAMP:20260420T012639
CREATED:20251029T170807Z
LAST-MODIFIED:20251211T215138Z
UID:10000799-1814659200-1814745599@www.padental.org
SUMMARY:Fourth of July
DESCRIPTION:  \nLearn More
URL:https://www.padental.org/event/fourth-of-july/2027-07-04/
CATEGORIES:PDA Office Closed
END:VEVENT
BEGIN:VEVENT
DTSTART;VALUE=DATE:20270906
DTEND;VALUE=DATE:20270907
DTSTAMP:20260420T012639
CREATED:20251029T181317Z
LAST-MODIFIED:20251211T214753Z
UID:10000889-1820188800-1820275199@www.padental.org
SUMMARY:Labor Day
DESCRIPTION:  \nLearn More
URL:https://www.padental.org/event/labor-day/2027-09-06/
CATEGORIES:PDA Office Closed
END:VEVENT
BEGIN:VEVENT
DTSTART;VALUE=DATE:20271125
DTEND;VALUE=DATE:20271126
DTSTAMP:20260420T012639
CREATED:20250930T204753Z
LAST-MODIFIED:20251029T201529Z
UID:10000081-1827100800-1827187199@www.padental.org
SUMMARY:Thanksgiving
DESCRIPTION:Learn More
URL:https://www.padental.org/event/thanksgiving/2027-11-25/
CATEGORIES:PDA Office Closed
END:VEVENT
BEGIN:VEVENT
DTSTART;VALUE=DATE:20271126
DTEND;VALUE=DATE:20271127
DTSTAMP:20260420T012639
CREATED:20251211T220252Z
LAST-MODIFIED:20251211T220307Z
UID:10001140-1827187200-1827273599@www.padental.org
SUMMARY:PDA Office Closed
DESCRIPTION:
URL:https://www.padental.org/event/pda-office-closed/2027-11-26/
CATEGORIES:PDA Office Closed
END:VEVENT
BEGIN:VEVENT
DTSTART;VALUE=DATE:20271224
DTEND;VALUE=DATE:20271225
DTSTAMP:20260420T012639
CREATED:20251211T220455Z
LAST-MODIFIED:20251219T193049Z
UID:10001146-1829606400-1829692799@www.padental.org
SUMMARY:PDA Office Closing at 12PM
DESCRIPTION:
URL:https://www.padental.org/event/pda-office-closing-at-1pm/2027-12-24/
CATEGORIES:PDA Office Closed
END:VEVENT
BEGIN:VEVENT
DTSTART;VALUE=DATE:20271225
DTEND;VALUE=DATE:20271226
DTSTAMP:20260420T012639
CREATED:20250930T213141Z
LAST-MODIFIED:20251029T202441Z
UID:10000364-1829692800-1829779199@www.padental.org
SUMMARY:Christmas
DESCRIPTION:Learn More
URL:https://www.padental.org/event/christmas/2027-12-25/
CATEGORIES:PDA Office Closed
END:VEVENT
BEGIN:VEVENT
DTSTART;VALUE=DATE:20280101
DTEND;VALUE=DATE:20280102
DTSTAMP:20260420T012639
CREATED:20250930T213616Z
LAST-MODIFIED:20251029T201828Z
UID:10000945-1830297600-1830383999@www.padental.org
SUMMARY:New Year's Day
DESCRIPTION:Learn More
URL:https://www.padental.org/event/new-years-day/2028-01-01/
CATEGORIES:PDA Office Closed
END:VEVENT
BEGIN:VEVENT
DTSTART;VALUE=DATE:20280117
DTEND;VALUE=DATE:20280118
DTSTAMP:20260420T012639
CREATED:20251001T190749Z
LAST-MODIFIED:20251029T203035Z
UID:10000410-1831680000-1831766399@www.padental.org
SUMMARY:Martin Luther King\, Jr.\, Day
DESCRIPTION:Learn More
URL:https://www.padental.org/event/martin-luther-king-jr-day/2028-01-17/
CATEGORIES:PDA Office Closed
END:VEVENT
BEGIN:VEVENT
DTSTART;VALUE=DATE:20280216
DTEND;VALUE=DATE:20280217
DTSTAMP:20260420T012639
CREATED:20251027T141106Z
LAST-MODIFIED:20251029T204342Z
UID:10000495-1834272000-1834358399@www.padental.org
SUMMARY:President's Day
DESCRIPTION:Learn More
URL:https://www.padental.org/event/presidents-day/2028-02-16/
CATEGORIES:PDA Office Closed
END:VEVENT
BEGIN:VEVENT
DTSTART;VALUE=DATE:20280529
DTEND;VALUE=DATE:20280530
DTSTAMP:20260420T012639
CREATED:20251029T115857Z
LAST-MODIFIED:20251211T214958Z
UID:10000724-1843171200-1843257599@www.padental.org
SUMMARY:Memorial Day
DESCRIPTION:  \n  \n \nLearn More
URL:https://www.padental.org/event/memorial-day/2028-05-29/
CATEGORIES:PDA Office Closed
END:VEVENT
BEGIN:VEVENT
DTSTART;VALUE=DATE:20280704
DTEND;VALUE=DATE:20280705
DTSTAMP:20260420T012639
CREATED:20251029T170807Z
LAST-MODIFIED:20251211T215138Z
UID:10000800-1846281600-1846367999@www.padental.org
SUMMARY:Fourth of July
DESCRIPTION:  \nLearn More
URL:https://www.padental.org/event/fourth-of-july/2028-07-04/
CATEGORIES:PDA Office Closed
END:VEVENT
BEGIN:VEVENT
DTSTART;VALUE=DATE:20280904
DTEND;VALUE=DATE:20280905
DTSTAMP:20260420T012639
CREATED:20251029T181317Z
LAST-MODIFIED:20251211T214753Z
UID:10000890-1851638400-1851724799@www.padental.org
SUMMARY:Labor Day
DESCRIPTION:  \nLearn More
URL:https://www.padental.org/event/labor-day/2028-09-04/
CATEGORIES:PDA Office Closed
END:VEVENT
BEGIN:VEVENT
DTSTART;VALUE=DATE:20281123
DTEND;VALUE=DATE:20281124
DTSTAMP:20260420T012639
CREATED:20250930T204753Z
LAST-MODIFIED:20251029T201529Z
UID:10000082-1858550400-1858636799@www.padental.org
SUMMARY:Thanksgiving
DESCRIPTION:Learn More
URL:https://www.padental.org/event/thanksgiving/2028-11-23/
CATEGORIES:PDA Office Closed
END:VEVENT
BEGIN:VEVENT
DTSTART;VALUE=DATE:20281124
DTEND;VALUE=DATE:20281125
DTSTAMP:20260420T012639
CREATED:20251211T220252Z
LAST-MODIFIED:20251211T220307Z
UID:10001141-1858636800-1858723199@www.padental.org
SUMMARY:PDA Office Closed
DESCRIPTION:
URL:https://www.padental.org/event/pda-office-closed/2028-11-24/
CATEGORIES:PDA Office Closed
END:VEVENT
BEGIN:VEVENT
DTSTART;VALUE=DATE:20281224
DTEND;VALUE=DATE:20281225
DTSTAMP:20260420T012639
CREATED:20251211T220455Z
LAST-MODIFIED:20251219T193049Z
UID:10001147-1861228800-1861315199@www.padental.org
SUMMARY:PDA Office Closing at 12PM
DESCRIPTION:
URL:https://www.padental.org/event/pda-office-closing-at-1pm/2028-12-24/
CATEGORIES:PDA Office Closed
END:VEVENT
BEGIN:VEVENT
DTSTART;VALUE=DATE:20281225
DTEND;VALUE=DATE:20281226
DTSTAMP:20260420T012639
CREATED:20250930T213141Z
LAST-MODIFIED:20251029T202441Z
UID:10000365-1861315200-1861401599@www.padental.org
SUMMARY:Christmas
DESCRIPTION:Learn More
URL:https://www.padental.org/event/christmas/2028-12-25/
CATEGORIES:PDA Office Closed
END:VEVENT
BEGIN:VEVENT
DTSTART;VALUE=DATE:20290101
DTEND;VALUE=DATE:20290102
DTSTAMP:20260420T012639
CREATED:20250930T213616Z
LAST-MODIFIED:20251029T201828Z
UID:10000946-1861920000-1862006399@www.padental.org
SUMMARY:New Year's Day
DESCRIPTION:Learn More
URL:https://www.padental.org/event/new-years-day/2029-01-01/
CATEGORIES:PDA Office Closed
END:VEVENT
BEGIN:VEVENT
DTSTART;VALUE=DATE:20290115
DTEND;VALUE=DATE:20290116
DTSTAMP:20260420T012639
CREATED:20251001T190749Z
LAST-MODIFIED:20251029T203035Z
UID:10000411-1863129600-1863215999@www.padental.org
SUMMARY:Martin Luther King\, Jr.\, Day
DESCRIPTION:Learn More
URL:https://www.padental.org/event/martin-luther-king-jr-day/2029-01-15/
CATEGORIES:PDA Office Closed
END:VEVENT
BEGIN:VEVENT
DTSTART;VALUE=DATE:20290216
DTEND;VALUE=DATE:20290217
DTSTAMP:20260420T012639
CREATED:20251027T141106Z
LAST-MODIFIED:20251029T204342Z
UID:10000496-1865894400-1865980799@www.padental.org
SUMMARY:President's Day
DESCRIPTION:Learn More
URL:https://www.padental.org/event/presidents-day/2029-02-16/
CATEGORIES:PDA Office Closed
END:VEVENT
END:VCALENDAR