BEGIN:VCALENDAR
VERSION:2.0
PRODID:-//Pennsylvania Dental Association - ECPv6.15.20//NONSGML v1.0//EN
CALSCALE:GREGORIAN
METHOD:PUBLISH
X-ORIGINAL-URL:https://www.padental.org
X-WR-CALDESC:Events for Pennsylvania Dental Association
REFRESH-INTERVAL;VALUE=DURATION:PT1H
X-Robots-Tag:noindex
X-PUBLISHED-TTL:PT1H
BEGIN:VTIMEZONE
TZID:America/New_York
BEGIN:DAYLIGHT
TZOFFSETFROM:-0500
TZOFFSETTO:-0400
TZNAME:EDT
DTSTART:20250309T070000
END:DAYLIGHT
BEGIN:STANDARD
TZOFFSETFROM:-0400
TZOFFSETTO:-0500
TZNAME:EST
DTSTART:20251102T060000
END:STANDARD
BEGIN:DAYLIGHT
TZOFFSETFROM:-0500
TZOFFSETTO:-0400
TZNAME:EDT
DTSTART:20260308T070000
END:DAYLIGHT
BEGIN:STANDARD
TZOFFSETFROM:-0400
TZOFFSETTO:-0500
TZNAME:EST
DTSTART:20261101T060000
END:STANDARD
BEGIN:DAYLIGHT
TZOFFSETFROM:-0500
TZOFFSETTO:-0400
TZNAME:EDT
DTSTART:20270314T070000
END:DAYLIGHT
BEGIN:STANDARD
TZOFFSETFROM:-0400
TZOFFSETTO:-0500
TZNAME:EST
DTSTART:20271107T060000
END:STANDARD
END:VTIMEZONE
BEGIN:VEVENT
DTSTART;TZID=America/New_York:20260601T183000
DTEND;TZID=America/New_York:20260601T193000
DTSTAMP:20260420T045729
CREATED:20260115T145114Z
LAST-MODIFIED:20260115T145421Z
UID:10001547-1780338600-1780342200@www.padental.org
SUMMARY:Bridging the Info Gap
DESCRIPTION:A webinar for all PDA members. Check your email\, the PDA Go app or visit padental.org/BIG to register. These are held bi-monthly.  So if you can’t make it\, you can view the recording or plan to attend the next one!
URL:https://www.padental.org/event/bridging-the-info-gap/2026-06-01/
CATEGORIES:PDA Events
LOCATION:https://www.padental.org/event/bridging-the-info-gap/2026-06-01/
END:VEVENT
BEGIN:VEVENT
DTSTART;TZID=America/New_York:20260716T000000
DTEND;TZID=America/New_York:20260718T000000
DTSTAMP:20260420T045729
CREATED:20260326T201902Z
LAST-MODIFIED:20260403T162039Z
UID:10001576-1784160000-1784332800@www.padental.org
SUMMARY:PDA's Family Vacation Dental Conference 2026
DESCRIPTION:Register for this Event \nJoin us! PDA is offering you a reason to plan a vacation AND use the costs to attend the dental conference as a tax write-off.* The conference will be held July 16-18\, 2026 at the AAA Four Diamond Hyatt Regency Chesapeake Bay Golf Resort\, Spa and Marina in Cambridge\, Maryland. \nRooms start at $289 per night including fees before taxes and the rate is extended to three days before and three days after the meeting (based on availability). Click here to access the reservation portal created for PDA. \nImportant Note: the block of rooms will be held until June 17\, or until rooms are exhausted. After June 17 or once rooms are exhausted\, whichever shall occur first\, rooms will be assigned on a space available basis at the current room rate. \n*consult your accountant or tax advisor regarding any deductions of expenses to attend CE. \nConference Registration Fees\n$449 for PDA/ADA member dentists;\n$365 for PDA life/retired member dentists;\n$299 for PDA/ADA new dentists\, residents and dental students;\n$599 for non-member dentists;\n$365 for hygienists\, dental assistants\, EFDAs\, non-licensed staff and guests. \nFee includes courses offered on Thursday\, Friday and Saturday mornings\, breakfast\, breaks and one (1) ticket to the Friday Welcome Reception at 5:30 p.m. You can purchase additional Welcome Reception tickets for guests and children. \nOR\, register for individual courses at $190 per person ($299 for non-member dentists) and purchase Welcome Reception tickets separately. \nAgenda\nThursday\, July 16\n7:15 a.m. Registration and Breakfast for CE Attendees \n8:15 a.m. – 11:30 a.m.\nCE – Infection Control In The Era Emerging/Re-emerging Disease(s): What Dental\nPractitioners Need to Know\nPresented by Louis G. DePaola\, DDS\, MS\, FAAOM\, FACD\, FICD\nThis program will provide dental providers with the latest information on the\nmanagement of recent emerging diseases as well as COVID-19 in the dental office.\nAnd\, fulfills CDE requirements for infection control and requirements for annual OSHA\ntraining. \n1:00 – 4:00 p.m. (optional activity)\nTour and Tasting at RaR Brewing Company (downtown Cambridge)\nRound-trip transportation provided to enjoy a tour of the brewery process and sample 4\ndifferent brews. Food is available for purchase.\n$45 per person and participants must be 21 years of age or older. \n7:00 – 9:00 p.m. (optional activity)\nSunset Boat Cruise on the Choptank River departing from the Hyatt Pier\nThe captain will slowly cruise the river while you enjoy the scenery. Bottled water is\nprovided and you may bring your own snacks and alcoholic or non-alcoholic canned\nbeverages on board. There is a bathroom on the boat.\n$50 per person \nFriday\, July 17\n7:15 a.m. Registration and Breakfast for CE Attendees \n8:15 a.m. – 11:30 a.m.\nCE – Promoting Wellness with Minimally Invasive Dental Techniques\nPresented by Mark S. Wolff\, DDS\, PhD\, Morton Amsterdam Dean\, University of\nPennsylvania School of Dental Medicine\nThis lecture will cover the diagnostic criteria essential for the modern management of\ndental caries. And\, focus on the methods of preserving tooth structure through\ntreatments that can arrest\, prevent\, and even reverse the damage caused by dental\ncaries. \n1:00 – 5:00 p.m. (optional activity)\nFishing Excursion departing from the Hyatt Pier\nCruise the area around the Hyatt and fish for catfish\, perch and striped bass. All\nequipment\, bait and gratuity included in the price and it’s a great time for experienced\nanglers and beginners alike.\n$160 per person; a Maryland fishing license is required and will be an additional fee of\n$20-$35 per person. \n5:30 – 7:00 p.m.\nWelcome Reception\nOpen bar and light hors d’oeuvres (food served from 6:00 – 7:00 p.m.). One (1) ticket is\nincluded with each conference package registration. Additional tickets for attendees 7\nyears of age and older are available for purchase. Children 6 and under are\ncomplimentary. This event will be held indoors at the Hyatt. \nSaturday\, July 18\n7:15 a.m. Registration and Breakfast for CE Attendees\n\n8:15 a.m. – 11:30 a.m.\nCE – Implant Complications from a Restorative Perspective\nPresented by Carl F. Driscoll\, DMD\nThe attendee will be exposed to many different complications involving implant\ntreatment through numerous clinical examples. The handling of these complications will\nbe discussed so that the attendee can better treat his/her patients when unfortunate\nevents dictate immediate reconciliation. \n3:15 – 5:30 p.m. (optional activity)\nCrab Feast at the Suicide Bridge Restaurant (25-minutes from the Hyatt)\nWe will have a group reservation at the restaurant for an all you can eat feast with\nsteamed Maryland hard shell crabs\, crab soup\, fried chicken\, clam strips and more! The\nall-inclusive price will be announced in May after crabs are in season. Consider booking\ntickets on the 1:30 p.m. 90-minute riverboat cruise that leaves from the restaurant and\nthen join the crab feast. \n\nTo register please follow these steps: \nNon-dentist dental team members who are not attending the meeting with a dentist should email PDA or call (717) 234-5941\, ext. 117.\n1. Sign in to the website. Every dentist has a record. For most dentists\, your website default username is your first initial\, last name and four-digit year of birth with no spaces. The password is lowercase ada and your ADA number. Pricing will be applied based on your membership status once you sign in to the website. If you don’t remember your username and password\, please contact PDA’s membership department.\n2. Click the Register Myself button and an Add button will appear for each event. Click the “Add” button to select the events you will attend. NOTE: Register Myself button will not appear unless your name is displayed at the top of the web page. Click the words Sign In.\n3. To register non-dentist (hygienists\, assistants or non-licensed guests) attendees for the course\, click +Add a Guest under “My Registration Status:” to add your guest. \n\nIf you have previously attended a PDA program with a non-dentist guest\, that person may appear as an existing contact. If the Select an existing contact option appears and the correct guest’s name is displayed when clicking in the box\, please select his or her name. If a unique email address is not listed for this guest\, please add it. Click Save & Close.\nIf the Select an existing contact option does not appear\, please enter the name of the guest\, his or her designation (RDH\, EFDA) and a unique email address; click Save & Close.\nClick the “Add” button next to the events your guest will attend.\nRepeat the process until all guests are registered.\nPlease note: if the same email address is used for all registrants\, only one “reminder to attend” email will be sent.\n\n4. Click Proceed to Checkout to review your order and enter your credit card information.\n5. Click Submit Order to complete your registration.\nPlease contact Rebecca Von Nieda\, PDA’s director of meetings and administration\, at (717) 234-5941\, ext. 117 with any questions about the meeting or online registration. \nRegister for this Event
URL:https://www.padental.org/event/cevacay26-pdas-family-vacation-dental-conference-2026/
LOCATION:Hyatt Regency Chesapeake Bay\, Hyatt Regency Chesapeake Bay\nGolf Resort\, Spa and Marina\, Cambridge\, MD\, 21613
CATEGORIES:PDA Events,PDA Sponsored CE
END:VEVENT
BEGIN:VEVENT
DTSTART;TZID=America/New_York:20260804T183000
DTEND;TZID=America/New_York:20260804T193000
DTSTAMP:20260420T045729
CREATED:20260115T145114Z
LAST-MODIFIED:20260115T145421Z
UID:10001548-1785868200-1785871800@www.padental.org
SUMMARY:Bridging the Info Gap
DESCRIPTION:A webinar for all PDA members. Check your email\, the PDA Go app or visit padental.org/BIG to register. These are held bi-monthly.  So if you can’t make it\, you can view the recording or plan to attend the next one!
URL:https://www.padental.org/event/bridging-the-info-gap/2026-08-04/
CATEGORIES:PDA Events
LOCATION:https://www.padental.org/event/bridging-the-info-gap/2026-08-04/
END:VEVENT
BEGIN:VEVENT
DTSTART;TZID=America/New_York:20261005T183000
DTEND;TZID=America/New_York:20261005T193000
DTSTAMP:20260420T045729
CREATED:20260115T145114Z
LAST-MODIFIED:20260115T145421Z
UID:10001549-1791225000-1791228600@www.padental.org
SUMMARY:Bridging the Info Gap
DESCRIPTION:A webinar for all PDA members. Check your email\, the PDA Go app or visit padental.org/BIG to register. These are held bi-monthly.  So if you can’t make it\, you can view the recording or plan to attend the next one!
URL:https://www.padental.org/event/bridging-the-info-gap/2026-10-05/
CATEGORIES:PDA Events
LOCATION:https://www.padental.org/event/bridging-the-info-gap/2026-10-05/
END:VEVENT
BEGIN:VEVENT
DTSTART;TZID=America/New_York:20261201T183000
DTEND;TZID=America/New_York:20261201T193000
DTSTAMP:20260420T045729
CREATED:20260115T145114Z
LAST-MODIFIED:20260115T145421Z
UID:10001551-1796149800-1796153400@www.padental.org
SUMMARY:Bridging the Info Gap
DESCRIPTION:A webinar for all PDA members. Check your email\, the PDA Go app or visit padental.org/BIG to register. These are held bi-monthly.  So if you can’t make it\, you can view the recording or plan to attend the next one!
URL:https://www.padental.org/event/bridging-the-info-gap/2026-12-01/
CATEGORIES:PDA Events
LOCATION:https://www.padental.org/event/bridging-the-info-gap/2026-12-01/
END:VEVENT
END:VCALENDAR