BEGIN:VCALENDAR
VERSION:2.0
PRODID:-//Pennsylvania Dental Association - ECPv6.15.20//NONSGML v1.0//EN
CALSCALE:GREGORIAN
METHOD:PUBLISH
X-ORIGINAL-URL:https://www.padental.org
X-WR-CALDESC:Events for Pennsylvania Dental Association
REFRESH-INTERVAL;VALUE=DURATION:PT1H
X-Robots-Tag:noindex
X-PUBLISHED-TTL:PT1H
BEGIN:VTIMEZONE
TZID:America/New_York
BEGIN:DAYLIGHT
TZOFFSETFROM:-0500
TZOFFSETTO:-0400
TZNAME:EDT
DTSTART:20240310T070000
END:DAYLIGHT
BEGIN:STANDARD
TZOFFSETFROM:-0400
TZOFFSETTO:-0500
TZNAME:EST
DTSTART:20241103T060000
END:STANDARD
BEGIN:DAYLIGHT
TZOFFSETFROM:-0500
TZOFFSETTO:-0400
TZNAME:EDT
DTSTART:20250309T070000
END:DAYLIGHT
BEGIN:STANDARD
TZOFFSETFROM:-0400
TZOFFSETTO:-0500
TZNAME:EST
DTSTART:20251102T060000
END:STANDARD
BEGIN:DAYLIGHT
TZOFFSETFROM:-0500
TZOFFSETTO:-0400
TZNAME:EDT
DTSTART:20260308T070000
END:DAYLIGHT
BEGIN:STANDARD
TZOFFSETFROM:-0400
TZOFFSETTO:-0500
TZNAME:EST
DTSTART:20261101T060000
END:STANDARD
END:VTIMEZONE
BEGIN:VEVENT
DTSTART;TZID=America/New_York:20251113T080000
DTEND;TZID=America/New_York:20251113T170000
DTSTAMP:20260420T225615
CREATED:20251106T123028Z
LAST-MODIFIED:20251106T123028Z
UID:10000968-1763020800-1763053200@www.padental.org
SUMMARY:TEST EVENT
DESCRIPTION:test test testing 123
URL:https://www.padental.org/event/test-event/
CATEGORIES:Shared Event
END:VEVENT
BEGIN:VEVENT
DTSTART;TZID=America/New_York:20251114T000000
DTEND;TZID=America/New_York:20251115T000000
DTSTAMP:20260420T225615
CREATED:20251108T203809Z
LAST-MODIFIED:20251212T193839Z
UID:10001040-1763078400-1763164800@www.padental.org
SUMMARY:Symposium at Penn Dental Medicine
DESCRIPTION:This is a two-day immersive continuing education course focused on interdisciplinary microscopy in restorative dentistry\, endodontics and periodontics. \nView the flyer here for more info and to register:\nPD Penn Interdisciplinary Microscopy Symposium Flyer_6.PDF \n\nRegister for this Event
URL:https://www.padental.org/event/nd_penn25-symposium-at-penn-dental-medicine/
CATEGORIES:Shared Event
END:VEVENT
BEGIN:VEVENT
DTSTART;TZID=America/New_York:20251114T080000
DTEND;TZID=America/New_York:20251115T170000
DTSTAMP:20260420T225615
CREATED:20250930T202403Z
LAST-MODIFIED:20251212T193911Z
UID:10000042-1763107200-1763226000@www.padental.org
SUMMARY:Symposium at Penn Dental Medicine
DESCRIPTION:PENN INTERDISCIPLINARY MICROSCOPY SYMPOSIUM\nThis is a two-day immersive continuing education course focused on interdisciplinary microscopy in restorative dentistry\, endodontics and periodontics. \nView the flyer here for more info and to register:\nPD Penn Interdisciplinary Microscopy Symposium Flyer_6.PDF
URL:https://www.padental.org/event/symposium-at-penn-dental-medicine/
CATEGORIES:Shared Event
END:VEVENT
END:VCALENDAR