BEGIN:VCALENDAR
VERSION:2.0
PRODID:-//Pennsylvania Dental Association - ECPv6.15.20//NONSGML v1.0//EN
CALSCALE:GREGORIAN
METHOD:PUBLISH
X-WR-CALNAME:Pennsylvania Dental Association
X-ORIGINAL-URL:https://www.padental.org
X-WR-CALDESC:Events for Pennsylvania Dental Association
REFRESH-INTERVAL;VALUE=DURATION:PT1H
X-Robots-Tag:noindex
X-PUBLISHED-TTL:PT1H
BEGIN:VTIMEZONE
TZID:America/New_York
BEGIN:DAYLIGHT
TZOFFSETFROM:-0500
TZOFFSETTO:-0400
TZNAME:EDT
DTSTART:20250309T070000
END:DAYLIGHT
BEGIN:STANDARD
TZOFFSETFROM:-0400
TZOFFSETTO:-0500
TZNAME:EST
DTSTART:20251102T060000
END:STANDARD
BEGIN:DAYLIGHT
TZOFFSETFROM:-0500
TZOFFSETTO:-0400
TZNAME:EDT
DTSTART:20260308T070000
END:DAYLIGHT
BEGIN:STANDARD
TZOFFSETFROM:-0400
TZOFFSETTO:-0500
TZNAME:EST
DTSTART:20261101T060000
END:STANDARD
BEGIN:DAYLIGHT
TZOFFSETFROM:-0500
TZOFFSETTO:-0400
TZNAME:EDT
DTSTART:20270314T070000
END:DAYLIGHT
BEGIN:STANDARD
TZOFFSETFROM:-0400
TZOFFSETTO:-0500
TZNAME:EST
DTSTART:20271107T060000
END:STANDARD
BEGIN:DAYLIGHT
TZOFFSETFROM:-0500
TZOFFSETTO:-0400
TZNAME:EDT
DTSTART:20280312T070000
END:DAYLIGHT
BEGIN:STANDARD
TZOFFSETFROM:-0400
TZOFFSETTO:-0500
TZNAME:EST
DTSTART:20281105T060000
END:STANDARD
BEGIN:DAYLIGHT
TZOFFSETFROM:-0500
TZOFFSETTO:-0400
TZNAME:EDT
DTSTART:20290311T070000
END:DAYLIGHT
BEGIN:STANDARD
TZOFFSETFROM:-0400
TZOFFSETTO:-0500
TZNAME:EST
DTSTART:20291104T060000
END:STANDARD
BEGIN:DAYLIGHT
TZOFFSETFROM:-0500
TZOFFSETTO:-0400
TZNAME:EDT
DTSTART:20300310T070000
END:DAYLIGHT
BEGIN:STANDARD
TZOFFSETFROM:-0400
TZOFFSETTO:-0500
TZNAME:EST
DTSTART:20301103T060000
END:STANDARD
BEGIN:DAYLIGHT
TZOFFSETFROM:-0500
TZOFFSETTO:-0400
TZNAME:EDT
DTSTART:20310309T070000
END:DAYLIGHT
BEGIN:STANDARD
TZOFFSETFROM:-0400
TZOFFSETTO:-0500
TZNAME:EST
DTSTART:20311102T060000
END:STANDARD
END:VTIMEZONE
BEGIN:VEVENT
DTSTART;TZID=America/New_York:20260815T080000
DTEND;TZID=America/New_York:20260815T170000
DTSTAMP:20260420T045347
CREATED:20251029T174929Z
LAST-MODIFIED:20251029T231531Z
UID:10000855-1786780800-1786813200@www.padental.org
SUMMARY:Feast of the Assumption
DESCRIPTION:Learn More
URL:https://www.padental.org/event/feast-of-the-assumption/2026-08-15/
CATEGORIES:Federal and Faith-Based Celebrations
END:VEVENT
BEGIN:VEVENT
DTSTART;TZID=America/New_York:20270815T080000
DTEND;TZID=America/New_York:20270815T170000
DTSTAMP:20260420T045347
CREATED:20251029T174929Z
LAST-MODIFIED:20251029T231531Z
UID:10000856-1818316800-1818349200@www.padental.org
SUMMARY:Feast of the Assumption
DESCRIPTION:Learn More
URL:https://www.padental.org/event/feast-of-the-assumption/2027-08-15/
CATEGORIES:Federal and Faith-Based Celebrations
END:VEVENT
BEGIN:VEVENT
DTSTART;TZID=America/New_York:20280815T080000
DTEND;TZID=America/New_York:20280815T170000
DTSTAMP:20260420T045347
CREATED:20251029T174929Z
LAST-MODIFIED:20251029T231531Z
UID:10000857-1849939200-1849971600@www.padental.org
SUMMARY:Feast of the Assumption
DESCRIPTION:Learn More
URL:https://www.padental.org/event/feast-of-the-assumption/2028-08-15/
CATEGORIES:Federal and Faith-Based Celebrations
END:VEVENT
BEGIN:VEVENT
DTSTART;TZID=America/New_York:20290815T080000
DTEND;TZID=America/New_York:20290815T170000
DTSTAMP:20260420T045347
CREATED:20251029T174929Z
LAST-MODIFIED:20251029T231531Z
UID:10000858-1881475200-1881507600@www.padental.org
SUMMARY:Feast of the Assumption
DESCRIPTION:Learn More
URL:https://www.padental.org/event/feast-of-the-assumption/2029-08-15/
CATEGORIES:Federal and Faith-Based Celebrations
END:VEVENT
BEGIN:VEVENT
DTSTART;TZID=America/New_York:20300815T080000
DTEND;TZID=America/New_York:20300815T170000
DTSTAMP:20260420T045347
CREATED:20251029T174929Z
LAST-MODIFIED:20251029T231531Z
UID:10000859-1913011200-1913043600@www.padental.org
SUMMARY:Feast of the Assumption
DESCRIPTION:Learn More
URL:https://www.padental.org/event/feast-of-the-assumption/2030-08-15/
CATEGORIES:Federal and Faith-Based Celebrations
END:VEVENT
END:VCALENDAR