BEGIN:VCALENDAR
VERSION:2.0
PRODID:-//Pennsylvania Dental Association - ECPv6.15.20//NONSGML v1.0//EN
CALSCALE:GREGORIAN
METHOD:PUBLISH
X-WR-CALNAME:Pennsylvania Dental Association
X-ORIGINAL-URL:https://www.padental.org
X-WR-CALDESC:Events for Pennsylvania Dental Association
REFRESH-INTERVAL;VALUE=DURATION:PT1H
X-Robots-Tag:noindex
X-PUBLISHED-TTL:PT1H
BEGIN:VTIMEZONE
TZID:America/New_York
BEGIN:DAYLIGHT
TZOFFSETFROM:-0500
TZOFFSETTO:-0400
TZNAME:EDT
DTSTART:20250309T070000
END:DAYLIGHT
BEGIN:STANDARD
TZOFFSETFROM:-0400
TZOFFSETTO:-0500
TZNAME:EST
DTSTART:20251102T060000
END:STANDARD
BEGIN:DAYLIGHT
TZOFFSETFROM:-0500
TZOFFSETTO:-0400
TZNAME:EDT
DTSTART:20260308T070000
END:DAYLIGHT
BEGIN:STANDARD
TZOFFSETFROM:-0400
TZOFFSETTO:-0500
TZNAME:EST
DTSTART:20261101T060000
END:STANDARD
BEGIN:DAYLIGHT
TZOFFSETFROM:-0500
TZOFFSETTO:-0400
TZNAME:EDT
DTSTART:20270314T070000
END:DAYLIGHT
BEGIN:STANDARD
TZOFFSETFROM:-0400
TZOFFSETTO:-0500
TZNAME:EST
DTSTART:20271107T060000
END:STANDARD
BEGIN:DAYLIGHT
TZOFFSETFROM:-0500
TZOFFSETTO:-0400
TZNAME:EDT
DTSTART:20280312T070000
END:DAYLIGHT
BEGIN:STANDARD
TZOFFSETFROM:-0400
TZOFFSETTO:-0500
TZNAME:EST
DTSTART:20281105T060000
END:STANDARD
BEGIN:DAYLIGHT
TZOFFSETFROM:-0500
TZOFFSETTO:-0400
TZNAME:EDT
DTSTART:20290311T070000
END:DAYLIGHT
BEGIN:STANDARD
TZOFFSETFROM:-0400
TZOFFSETTO:-0500
TZNAME:EST
DTSTART:20291104T060000
END:STANDARD
BEGIN:DAYLIGHT
TZOFFSETFROM:-0500
TZOFFSETTO:-0400
TZNAME:EDT
DTSTART:20300310T070000
END:DAYLIGHT
BEGIN:STANDARD
TZOFFSETFROM:-0400
TZOFFSETTO:-0500
TZNAME:EST
DTSTART:20301103T060000
END:STANDARD
END:VTIMEZONE
BEGIN:VEVENT
DTSTART;VALUE=DATE:20260921
DTEND;VALUE=DATE:20260922
DTSTAMP:20260420T043918
CREATED:20250929T193929Z
LAST-MODIFIED:20251211T194120Z
UID:10001128-1789977600-1790010000@www.padental.org
SUMMARY:Yom Kippur
DESCRIPTION:Learn More
URL:https://www.padental.org/event/yom-kippur/2026-09-21/
CATEGORIES:Federal and Faith-Based Celebrations
END:VEVENT
BEGIN:VEVENT
DTSTART;VALUE=DATE:20271010
DTEND;VALUE=DATE:20271011
DTSTAMP:20260420T043918
CREATED:20250929T193929Z
LAST-MODIFIED:20251211T194120Z
UID:10000095-1823155200-1823187600@www.padental.org
SUMMARY:Yom Kippur
DESCRIPTION:Learn More
URL:https://www.padental.org/event/yom-kippur/2027-10-10/
CATEGORIES:Federal and Faith-Based Celebrations
END:VEVENT
BEGIN:VEVENT
DTSTART;VALUE=DATE:20280929
DTEND;VALUE=DATE:20280930
DTSTAMP:20260420T043918
CREATED:20250929T193929Z
LAST-MODIFIED:20251211T194120Z
UID:10000096-1853827200-1853859600@www.padental.org
SUMMARY:Yom Kippur
DESCRIPTION:Learn More
URL:https://www.padental.org/event/yom-kippur/2028-09-29/
CATEGORIES:Federal and Faith-Based Celebrations
END:VEVENT
BEGIN:VEVENT
DTSTART;VALUE=DATE:20290918
DTEND;VALUE=DATE:20290919
DTSTAMP:20260420T043918
CREATED:20250929T193929Z
LAST-MODIFIED:20251211T194120Z
UID:10000097-1884412800-1884445200@www.padental.org
SUMMARY:Yom Kippur
DESCRIPTION:Learn More
URL:https://www.padental.org/event/yom-kippur/2029-09-18/
CATEGORIES:Federal and Faith-Based Celebrations
END:VEVENT
END:VCALENDAR